Workbook

Sheet SUMMARY
B2: Model | C2: Quantity | D2: SCRAP | E2: Total FA report | F2: Function Issue (Out of warranty) | G2: Function Issue (Under warranty) | H2: LED ISSUE | I2: PENDING
B3: T99X171 | C3: 3334 | D3: =119+8 -> 127 | E3: 147 | F3: 65 | G3: 82 | H3: =C3-D3-E3 -> 3060 | I3: 0

Sheet Total List
A1: SERIAL_NUMBER | B1: MODEL_NAME | C1: SHIPPING_SN | D1: SHIPPING TIME | E1: FACTORY | F1: FUNCTION | G1: LOCATION | H1: SCRAP | I1: WARRANTY 1 | J1: WARRANTY 2
A2: =+'FXC - 4th RMA FA'!C2 -> 1CBFC0F8FAD3 | B2: T99X171.00 | C2: =+'FXC - 4th RMA FA'!D2 -> 2149688001202005037279 | D2: =+'FXC - 4th RMA FA'!G2 -> 43992 | E2: BG | F2: =+'FXC - 4th RMA FA'!E2 -> No Ping | G2: =+'FXC - 4th RMA FA'!F2 -> U1, U602 | I2: =+'FXC - 4th RMA FA'!I2 -> Out of Warranty
A3: =+'FXC - 4th RMA FA'!C3 -> 1CBFC0F90282 | B3: T99X171.00 | C3: =+'FXC - 4th RMA FA'!D3 -> 2149688001202005035915 | D3: =+'FXC - 4th RMA FA'!G3 -> 43992 | E3: BG | F3: =+'FXC - 4th RMA FA'!E3 -> Ethernet LED no light - light dim | G3: =+'FXC - 4th RMA FA'!F3 -> J801 | I3: =+'FXC - 4th RMA FA'!I3 -> Out of Warranty
A4: =+'FXC - 4th RMA FA'!C4 -> 1CBFC0F91782 | B4: T99X171.00 | C4: =+'FXC - 4th RMA FA'!D4 -> 2149688001202005033845 | D4: =+'FXC - 4th RMA FA'!G4 -> 43992 | E4: BG | F4: =+'FXC - 4th RMA FA'!E4 -> Ethernet LED no light - light dim | G4: =+'FXC - 4th RMA FA'!F4 -> J801 | I4: =+'FXC - 4th RMA FA'!I4 -> Out of Warranty
A5: =+'FXC - 4th RMA FA'!C5 -> 1CBFC0F919D5 | B5: T99X171.00 | C5: =+'FXC - 4th RMA FA'!D5 -> 2149688001202005030370 | D5: =+'FXC - 4th RMA FA'!G5 -> 43992 | E5: BG | F5: =+'FXC - 4th RMA FA'!E5 -> Can't download Factory FW (Stop at 7%) | G5: =+'FXC - 4th RMA FA'!F5 -> U602 | I5: =+'FXC - 4th RMA FA'!I5 -> Out of Warranty
A6: =+'FXC - 4th RMA FA'!C6 -> 28CDC4003DD3 | B6: T99X171.00 | C6: =+'FXC - 4th RMA FA'!D6 -> 2149688001202005072232 | D6: =+'FXC - 4th RMA FA'!G6 -> 44019 | E6: BG | F6: =+'FXC - 4th RMA FA'!E6 -> Can't download Factory FW | G6: =+'FXC - 4th RMA FA'!F6 -> U1, U602 | I6: =+'FXC - 4th RMA FA'!I6 -> Out of Warranty
A7: =+'FXC - 4th RMA FA'!C7 -> 28CDC40043E4 | B7: T99X171.00 | C7: =+'FXC - 4th RMA FA'!D7 -> 2149688001202005070354 | D7: =+'FXC - 4th RMA FA'!G7 -> 44019 | E7: BG | F7: =+'FXC - 4th RMA FA'!E7 -> Ethernet LED no light - light dim | G7: =+'FXC - 4th RMA FA'!F7 -> J801 | I7: =+'FXC - 4th RMA FA'!I7 -> Out of Warranty
A8: =+'FXC - 4th RMA FA'!C8 -> 28CDC4005317 | B8: T99X171.00 | C8: =+'FXC - 4th RMA FA'!D8 -> 2149688001202005078638 | D8: =+'FXC - 4th RMA FA'!G8 -> 44026 | E8: BG | F8: =+'FXC - 4th RMA FA'!E8 -> No Ping | G8: =+'FXC - 4th RMA FA'!F8 -> U602, U1001 | I8: =+'FXC - 4th RMA FA'!I8 -> Out of Warranty
A9: =+'FXC - 4th RMA FA'!C9 -> 28CDC4005762 | B9: T99X171.00 | C9: =+'FXC - 4th RMA FA'!D9 -> 2149688001202005078579 | D9: =+'FXC - 4th RMA FA'!G9 -> 44026 | E9: BG | F9: =+'FXC - 4th RMA FA'!E9 -> Can't download Factory FW (Stop at 7%) | G9: =+'FXC - 4th RMA FA'!F9 -> U602 | I9: =+'FXC - 4th RMA FA'!I9 -> Out of Warranty
A10: =+'FXC - 4th RMA FA'!C10 -> 28CDC4005B85 | B10: T99X171.00 | C10: =+'FXC - 4th RMA FA'!D10 -> 2149688001202005076739 | D10: =+'FXC - 4th RMA FA'!G10 -> 44026 | E10: BG | F10: =+'FXC - 4th RMA FA'!E10 -> Boot up fail | G10: =+'FXC - 4th RMA FA'!F10 -> U302 | I10: =+'FXC - 4th RMA FA'!I10 -> Out of Warranty
A11: =+'FXC - 4th RMA FA'!C11 -> 28CDC4096FE5 | B11: T99X171.00 | C11: =+'FXC - 4th RMA FA'!D11 -> 2149688001202005099461 | D11: =+'FXC - 4th RMA FA'!G11 -> 44026 | E11: BG | F11: =+'FXC - 4th RMA FA'!E11 -> Ethernet LED no light - light dim | G11: =+'FXC - 4th RMA FA'!F11 -> J801 | I11: =+'FXC - 4th RMA FA'!I11 -> Out of Warranty
A12: =+'FXC - 4th RMA FA'!C12 -> 28CDC4097371 | B12: T99X171.00 | C12: =+'FXC - 4th RMA FA'!D12 -> 2149688001202005099585 | D12: =+'FXC - 4th RMA FA'!G12 -> 07/14/2020 | E12: BG | F12: =+'FXC - 4th RMA FA'!E12 -> LED defect | G12: =+'FXC - 4th RMA FA'!F12 -> Q1002 | I12: =+'FXC - 4th RMA FA'!I12 -> Out of Warranty
A13: =+'FXC - 4th RMA FA'!C13 -> 28CDC4097647 | B13: T99X171.00 | C13: =+'FXC - 4th RMA FA'!D13 -> 2149688001202005081257 | D13: =+'FXC - 4th RMA FA'!G13 -> 44027 | E13: BG | F13: =+'FXC - 4th RMA FA'!E13 -> Can't download Factory FW | G13: =+'FXC - 4th RMA FA'!F13 -> U1, U602 | I13: =+'FXC - 4th RMA FA'!I13 -> Out of Warranty
... A20: =+'FXC - 4th RMA FA'!C20 -> 28CDC45CDDC2 | B20: T99X171.00 | C20: =+'FXC - 4th RMA FA'!D20 -> 2149688001202005103145 | D20: =+'FXC - 4th RMA FA'!G20 -> 44041 | E20: BG | F20: =+'FXC - 4th RMA FA'!E20 -> Lan port link speed check failure ( link speed=100Mbps lower than spec=1Gbps ) | G20: =+'FXC - 4th RMA FA'!F20 -> U801 | I20: =+'FXC - 4th RMA FA'!I20 -> Out of Warranty
A21: =+'FXC - 4th RMA FA'!C21 -> 28CDC4FA9742 | B21: T99X171.00 | C21: =+'FXC - 4th RMA FA'!D21 -> 2149688001202101126802 | D21: =+'FXC - 4th RMA FA'!G21 -> 44272 | E21: BG | F21: =+'FXC - 4th RMA FA'!E21 -> No Ping | G21: =+'FXC - 4th RMA FA'!F21 -> U1, U602 | J21: =+'FXC - 4th RMA FA'!J21 -> Under of Warranty
A22: =+'FXC - 4th RMA FA'!C22 -> 28CDC4FAA186 | B22: T99X171.00 | C22: =+'FXC - 4th RMA FA'!D22 -> 2149688001202101129134 | D22: =+'FXC - 4th RMA FA'!G22 -> 44272 | E22: BG | F22: =+'FXC - 4th RMA FA'!E22 -> Ethernet LED no light - light dim | G22: =+'FXC - 4th RMA FA'!F22 -> J801 | J22: =+'FXC - 4th RMA FA'!J22 -> Under of Warranty
A23: =+'FXC - 4th RMA FA'!C23 -> 28CDC4FAA6E7 | B23: T99X171.00 | C23: =+'FXC - 4th RMA FA'!D23 -> 2149688001202101132568 | D23: =+'FXC - 4th RMA FA'!G23 -> 44274 | E23: BG | F23: =+'FXC - 4th RMA FA'!E23 -> Ethernet LED no light - light dim | G23: =+'FXC - 4th RMA FA'!F23 -> J801 | J23: =+'FXC - 4th RMA FA'!J23 -> Under of Warranty
A24: =+'FXC - 4th RMA FA'!C24 -> 28CDC4FAA83E | B24: T99X171.00 | C24: =+'FXC - 4th RMA FA'!D24 -> 2149688001202101130489 | D24: =+'FXC - 4th RMA FA'!G24 -> 44272 | E24: BG | F24: =+'FXC - 4th RMA FA'!E24 -> Ethernet LED no light - light dim | G24: =+'FXC - 4th RMA FA'!F24 -> J801 | J24: =+'FXC - 4th RMA FA'!J24 -> Under of Warranty
A25: =+'FXC - 4th RMA FA'!C25 -> 28CDC4FAD344 | B25: T99X171.00 | C25: =+'FXC - 4th RMA FA'!D25 -> 2149688001202101144986 | D25: =+'FXC - 4th RMA FA'!G25 -> 44285 | E25: BG | F25: =+'FXC - 4th RMA FA'!E25 -> Ethernet LED no light - light dim | G25: =+'FXC - 4th RMA FA'!F25 -> J801 | J25: =+'FXC - 4th RMA FA'!J25 -> Under of Warranty
A26: =+'FXC - 4th RMA FA'!C26 -> 28CDC4FB0B45 | B26: T99X171.00 | C26: =+'FXC - 4th RMA FA'!D26 -> 2149688001202101158452 | D26: =+'FXC - 4th RMA FA'!G26 -> 44285 | E26: BG | F26: =+'FXC - 4th RMA FA'!E26 -> Can't download Factory FW (Stop at 7%) | G26: =+'FXC - 4th RMA FA'!F26 -> U602 | J26: =+'FXC - 4th RMA FA'!J26 -> Under of Warranty
A27: =+'FXC - 4th RMA FA'!C27 -> 28CDC4FB205E | B27: T99X171.00 | C27: =+'FXC - 4th RMA FA'!D27 -> 2149688001202005107967 | D27: =+'FXC - 4th RMA FA'!G27 -> 44041 | E27: BG | F27: =+'FXC - 4th RMA FA'!E27 -> Lan port link speed check failure ( link speed=100Mbps lower than spec=1Gbps ) | G27: =+'FXC - 4th RMA FA'!F27 -> U801 | I27: =+'FXC - 4th RMA FA'!I27 -> Out of Warranty
A28: =+'FXC - 4th RMA FA'!C28 -> 28CDC4FB2282 | B28: T99X171.00 | C28: =+'FXC - 4th RMA FA'!D28 -> 2149688001202005108899 | D28: =+'FXC - 4th RMA FA'!G28 -> 44041 | E28: BG | F28: =+'FXC - 4th RMA FA'!E28 -> Lan port link speed check failure ( link speed=100Mbps lower than spec=1Gbps ) | G28: =+'FXC - 4th RMA FA'!F28 -> U801 | I28: =+'FXC - 4th RMA FA'!I28 -> Out of Warranty
A29: =+'FXC - 4th RMA FA'!C29 -> 28CDC4FB3CD7 | B29: T99X171.00 | C29: =+'FXC - 4th RMA FA'!D29 -> 2149688001202005113569 | D29: =+'FXC - 4th RMA FA'!G29 -> 44041 | E29: BG | F29: =+'FXC - 4th RMA FA'!E29 -> Can't download Factory FW (Stop at 7%) | G29: =+'FXC - 4th RMA FA'!F29 -> U602 | I29: =+'FXC - 4th RMA FA'!I29 -> Out of Warranty
A30: =+'FXC - 4th RMA FA'!C30 -> 28CDC4FB414D | B30: T99X171.00 | C30: =+'FXC - 4th RMA FA'!D30 -> 2149688001202005115826 | D30: =+'FXC - 4th RMA FA'!G30 -> 44041 | E30: BG | F30: =+'FXC - 4th RMA FA'!E30 -> Can't download Factory FW | G30: =+'FXC - 4th RMA FA'!F30 -> U1, U602 | I30: =+'FXC - 4th RMA FA'!I30 -> Out of Warranty
A31: =+'FXC - 4th RMA FA'!C31 -> 28CDC4FB429D | B31: T99X171.00 | C31: =+'FXC - 4th RMA FA'!D31 -> 2149688001202005126481 | D31: =+'FXC - 4th RMA FA'!G31 -> 44048 | E31: BG | F31: =+'FXC - 4th RMA FA'!E31 -> audio function fail | G31: =+'FXC - 4th RMA FA'!F31 -> U1, U1101 | I31: =+'FXC - 4th RMA FA'!I31 -> Out of Warranty
A32: =+'FXC - 4th RMA FA'!C32 -> 28CDC4FB4321 | B32: T99X171.00 | C32: =+'FXC - 4th RMA FA'!D32 -> 2149688001202005114964 | D32: =+'FXC - 4th RMA FA'!G32 -> 44041 | E32: BG | F32: =+'FXC - 4th RMA FA'!E32 -> Can't download Factory FW (Stop at 7%) | G32: =+'FXC - 4th RMA FA'!F32 -> U602 | I32: =+'FXC - 4th RMA FA'!I32 -> Out of Warranty
A33: =+'FXC - 4th RMA FA'!C33 -> 28CDC4FB4D3F | B33: T99X171.00 | C33: =+'FXC - 4th RMA FA'!D33 -> 2149688001202005126178 | D33: =+'FXC - 4th RMA FA'!G33 -> 44047 | E33: BG | F33: =+'FXC - 4th RMA FA'!E33 -> Can't download Factory FW | G33: =+'FXC - 4th RMA FA'!F33 -> U1, U602 | I33: =+'FXC - 4th RMA FA'!I33 -> Out of Warranty
A34: =+'FXC - 4th RMA FA'!C34 -> 28CDC4FB531F | B34: T99X171.00 | C34: =+'FXC - 4th RMA FA'!D34 -> 2149688001202005120071 | D34: =+'FXC - 4th RMA FA'!G34 -> 44048 | E34: BG | F34: =+'FXC - 4th RMA FA'!E34 -> Can't download Factory FW | G34: =+'FXC - 4th RMA FA'!F34 -> U1, U602 | I34: =+'FXC - 4th RMA FA'!I34 -> Out of Warranty
A35: =+'FXC - 4th RMA FA'!C35 -> 28CDC4FB5C14 | B35: T99X171.00 | C35: =+'FXC - 4th RMA FA'!D35 -> 2149688001202005123729 | D35: =+'FXC - 4th RMA FA'!G35 -> 44047 | E35: BG | F35: =+'FXC - 4th RMA FA'!E35 -> Can't download Factory FW (Stop at 7%) | G35: =+'FXC - 4th RMA FA'!F35 -> U602 | I35: =+'FXC - 4th RMA FA'!I35 -> Out of Warranty
A36: =+'FXC - 4th RMA FA'!C36 -> 28CDC4FB63BA | B36: T99X171.00 | C36: =+'FXC - 4th RMA FA'!D36 -> 2149688001202005126208 | D36: =+'FXC - 4th RMA FA'!G36 -> 44047 | E36: BG | F36: =+'FXC - 4th RMA FA'!E36 -> Ethernet LED no light - light dim | G36: =+'FXC - 4th RMA FA'!F36 -> J801 | I36: =+'FXC - 4th RMA FA'!I36 -> Out of Warranty
A37: =+'FXC - 4th RMA FA'!C37 -> 28CDC4FB6B2F | B37: T99X171.00 | C37: =+'FXC - 4th RMA FA'!D37 -> 2149688001202005138674 | D37: =+'FXC - 4th RMA FA'!G37 -> 44047 | E37: BG | F37: =+'FXC - 4th RMA FA'!E37 -> Can't download Factory FW (Stop at 7%) | G37: =+'FXC - 4th RMA FA'!F37 -> U602 | I37: =+'FXC - 4th RMA FA'!I37 -> Out of Warranty
A38: =+'FXC - 4th RMA FA'!C38 -> 28CDC4FB6D90 | B38: T99X171.00 | C38: =+'FXC - 4th RMA FA'!D38 -> 2149688001202005141021 | D38: =+'FXC - 4th RMA FA'!G38 -> 44047 | E38: BG | F38: =+'FXC - 4th RMA FA'!E38 -> No Ping | G38: =+'FXC - 4th RMA FA'!F38 -> U1, U602 | I38: =+'FXC - 4th RMA FA'!I38 -> Out of Warranty
... A65: =+'FXC - 4th RMA FA'!C65 -> 28CDC4FD0CB7 | B65: T99X171.00 | C65: =+'FXC - 4th RMA FA'!D65 -> 2149688001202009042781 | D65: =+'FXC - 4th RMA FA'!G65 -> 44140 | E65: BG | F65: =+'FXC - 4th RMA FA'!E65 -> Audio 4K function fail | G65: =+'FXC - 4th RMA FA'!F65 -> U1, U602 | I65: =+'FXC - 4th RMA FA'!I65 -> Out of Warranty
A66: =+'FXC - 4th RMA FA'!C66 -> 28CDC4FDB5F2 | B66: T99X171.00 | C66: =+'FXC - 4th RMA FA'!D66 -> 2149688001202009084938 | D66: =+'FXC - 4th RMA FA'!G66 -> 44181 | E66: BG | F66: =+'FXC - 4th RMA FA'!E66 -> Can't download Factory FW | G66: =+'FXC - 4th RMA FA'!F66 -> U1,U602 | J66: =+'FXC - 4th RMA FA'!J66 -> Under of Warranty
A67: =+'FXC - 4th RMA FA'!C67 -> 28CDC4FDD055 | B67: T99X171.00 | C67: =+'FXC - 4th RMA FA'!D67 -> 2149688001202009092416 | D67: =+'FXC - 4th RMA FA'!G67 -> 44181 | E67: BG | F67: =+'FXC - 4th RMA FA'!E67 -> Ethernet LED no light - light dim | G67: =+'FXC - 4th RMA FA'!F67 -> J801 | J67: =+'FXC - 4th RMA FA'!J67 -> Under of Warranty
A68: =+'FXC - 4th RMA FA'!C68 -> 28CDC4FDE5D1 | B68: T99X171.00 | C68: =+'FXC - 4th RMA FA'!D68 -> 2149688001202009094794 | D68: =+'FXC - 4th RMA FA'!G68 -> 44182 | E68: BG | F68: =+'FXC - 4th RMA FA'!E68 -> Boot up fail | G68: =+'FXC - 4th RMA FA'!F68 -> U504 | J68: =+'FXC - 4th RMA FA'!J68 -> Under of Warranty
A69: =+'FXC - 4th RMA FA'!C69 -> 28CDC4FDF252 | B69: T99X171.00 | C69: =+'FXC - 4th RMA FA'!D69 -> 2149688001202009109074 | D69: =+'FXC - 4th RMA FA'!G69 -> 44183 | E69: BG | F69: =+'FXC - 4th RMA FA'!E69 -> Check HDMI video noise fail | G69: =+'FXC - 4th RMA FA'!F69 -> U1, U602 | J69: =+'FXC - 4th RMA FA'!J69 -> Under of Warranty
A70: =+'FXC - 4th RMA FA'!C70 -> 28CDC4FE1677 | B70: T99X171.00 | C70: =+'FXC - 4th RMA FA'!D70 -> 2149688001202101000077 | D70: =+'FXC - 4th RMA FA'!G70 -> 44207 | E70: BG | F70: =+'FXC - 4th RMA FA'!E70 -> HDMI function test fail | G70: =+'FXC - 4th RMA FA'!F70 -> J1401 | J70: =+'FXC - 4th RMA FA'!J70 -> Under of Warranty
A71: =+'FXC - 4th RMA FA'!C71 -> 28CDC4FE1C8B | B71: T99X171.00 | C71: =+'FXC - 4th RMA FA'!D71 -> 2149688001202101004612 | D71: =+'FXC - 4th RMA FA'!G71 -> 44207 | E71: BG | F71: =+'FXC - 4th RMA FA'!E71 -> Can't download Factory FW (Stop at 7%) | G71: =+'FXC - 4th RMA FA'!F71 -> U602 | J71: =+'FXC - 4th RMA FA'!J71 -> Under of Warranty
A72: =+'FXC - 4th RMA FA'!C72 -> 28CDC4FE1CFB | B72: T99X171.00 | C72: =+'FXC - 4th RMA FA'!D72 -> 2149688001202101002570 | D72: =+'FXC - 4th RMA FA'!G72 -> 44207 | E72: BG | F72: =+'FXC - 4th RMA FA'!E72 -> Can't download Factory FW (Stop at 7%) | G72: =+'FXC - 4th RMA FA'!F72 -> U602 | J72: =+'FXC - 4th RMA FA'!J72 -> Under of Warranty
A73: =+'FXC - 4th RMA FA'!C73 -> 28CDC4FE20A5 | B73: T99X171.00 | C73: =+'FXC - 4th RMA FA'!D73 -> 2149688001202101002246 | D73: =+'FXC - 4th RMA FA'!G73 -> 44207 | E73: BG | F73: =+'FXC - 4th RMA FA'!E73 -> Ethernet LED no light - light dim | G73: =+'FXC - 4th RMA FA'!F73 -> J801 | J73: =+'FXC - 4th RMA FA'!J73 -> Under of Warranty
A74: =+'FXC - 4th RMA FA'!C74 -> 28CDC4FE2F58 | B74: T99X171.00 | C74: =+'FXC - 4th RMA FA'!D74 -> 2149688001202101009419 | D74: =+'FXC - 4th RMA FA'!G74 -> 44207 | E74: BG | F74: =+'FXC - 4th RMA FA'!E74 -> No Ping | G74: =+'FXC - 4th RMA FA'!F74 -> U801 | J74: =+'FXC - 4th RMA FA'!J74 -> Under of Warranty
A75: =+'FXC - 4th RMA FA'!C75 -> 28CDC4FE5485 | B75: T99X171.00 | C75: =+'FXC - 4th RMA FA'!D75 -> 2149688001202101015889 | D75: =+'FXC - 4th RMA FA'!G75 -> 01/19/2021 | E75: BG | F75: =+'FXC - 4th RMA FA'!E75 -> No HDMI output | G75: =+'FXC - 4th RMA FA'!F75 -> FIL1401 | J75: =+'FXC - 4th RMA FA'!J75 -> Under of Warranty
A76: =+'FXC - 4th RMA FA'!C76 -> 28CDC4FE912E | B76: T99X171.00 | C76: =+'FXC - 4th RMA FA'!D76 -> 2149688001202101033950 | D76: =+'FXC - 4th RMA FA'!G76 -> 44215 | E76: BG | F76: =+'FXC - 4th RMA FA'!E76 -> Ethernet LED no light - light dim | G76: =+'FXC - 4th RMA FA'!F76 -> J801 | J76: =+'FXC - 4th RMA FA'!J76 -> Under of Warranty
A77: =+'FXC - 4th RMA FA'!C77 -> 28CDC4FEC6B8 | B77: T99X171.00 | C77: =+'FXC - 4th RMA FA'!D77 -> 2149688001202101050176 | D77: =+'FXC - 4th RMA FA'!G77 -> 44222 | E77: BG | F77: =+'FXC - 4th RMA FA'!E77 -> Ethernet LED no light - light dim | G77: =+'FXC - 4th RMA FA'!F77 -> J801 | J77: =+'FXC - 4th RMA FA'!J77 -> Under of Warranty
... A115: =+'FXC - 4th RMA FA'!C115 -> 4CD577FFF71A | B115: T99X171.00 | C115: =+'FXC - 4th RMA FA'!D115 -> 2149688001202201067557 | D115: =+'FXC - 4th RMA FA'!G115 -> 44568 | E115: BG | F115: =+'FXC - 4th RMA FA'!E115 -> No boot | G115: =+'FXC - 4th RMA FA'!F115 -> U1,U1001,U801,U602,U1101 | J115: =+'FXC - 4th RMA FA'!J115 -> Under of Warranty
A116: =+'FXC - 4th RMA FA'!C116 -> 5C3A4533906B | B116: T99X171.00 | C116: =+'FXC - 4th RMA FA'!D116 -> 2149688001202005042947 | D116: =+'FXC - 4th RMA FA'!G116 -> 43994 | E116: BG | F116: =+'FXC - 4th RMA FA'!E116 -> Ethernet LED no light - light dim | G116: =+'FXC - 4th RMA FA'!F116 -> J801 | I116: =+'FXC - 4th RMA FA'!I116 -> Out of Warranty
A117: =+'FXC - 4th RMA FA'!C117 -> 5C3A453396DE | B117: T99X171.00 | C117: =+'FXC - 4th RMA FA'!D117 -> 2149688001202005040766 | D117: =+'FXC - 4th RMA FA'!G117 -> 43994 | E117: BG | F117: =+'FXC - 4th RMA FA'!E117 -> No Ping | G117: =+'FXC - 4th RMA FA'!F117 -> U801 | I117: =+'FXC - 4th RMA FA'!I117 -> Out of Warranty
A118: =+'FXC - 4th RMA FA'!C118 -> 5C3A4533A09E | B118: T99X171.00 | C118: =+'FXC - 4th RMA FA'!D118 -> 2149688001202005045278 | D118: =+'FXC - 4th RMA FA'!G118 -> 43994 | E118: BG | F118: =+'FXC - 4th RMA FA'!E118 -> Ethernet LED no light - light dim | G118: =+'FXC - 4th RMA FA'!F118 -> J801 | I118: =+'FXC - 4th RMA FA'!I118 -> Out of Warranty
A119: =+'FXC - 4th RMA FA'!C119 -> 5C3A4533A0EF | B119: T99X171.00 | C119: =+'FXC - 4th RMA FA'!D119 -> 2149688001202005046179 | D119: =+'FXC - 4th RMA FA'!G119 -> 43994 | E119: BG | F119: =+'FXC - 4th RMA FA'!E119 -> Button check fail | G119: =+'FXC - 4th RMA FA'!F119 -> SW902 | I119: =+'FXC - 4th RMA FA'!I119 -> Out of Warranty
A120: =+'FXC - 4th RMA FA'!C120 -> 5C3A45D52DB7 | B120: T99X171.00 | C120: =+'FXC - 4th RMA FA'!D120 -> 2149688001202005053416 | D120: =+'FXC - 4th RMA FA'!G120 -> 44019 | E120: BG | F120: =+'FXC - 4th RMA FA'!E120 -> USB 3.0 test fail | G120: =+'FXC - 4th RMA FA'!F120 -> U902 | I120: =+'FXC - 4th RMA FA'!I120 -> Out of Warranty
A121: =+'FXC - 4th RMA FA'!C121 -> 5C3A45D54968 | B121: T99X171.00 | C121: =+'FXC - 4th RMA FA'!D121 -> 2149688001202005057376 | D121: =+'FXC - 4th RMA FA'!G121 -> 44019 | E121: BG | F121: =+'FXC - 4th RMA FA'!E121 -> Ethernet LED no light - light dim | G121: =+'FXC - 4th RMA FA'!F121 -> J801 | I121: =+'FXC - 4th RMA FA'!I121 -> Out of Warranty
A122: =+'FXC - 4th RMA FA'!C122 -> 5C3A45D55526 | B122: T99X171.00 | C122: =+'FXC - 4th RMA FA'!D122 -> 2149688001202005061403 | D122: =+'FXC - 4th RMA FA'!G122 -> 44019 | E122: BG | F122: =+'FXC - 4th RMA FA'!E122 -> Ethernet LED no light - light dim | G122: =+'FXC - 4th RMA FA'!F122 -> J801 | I122: =+'FXC - 4th RMA FA'!I122 -> Out of Warranty
A123: =+'FXC - 4th RMA FA'!C123 -> B4B5B6FDC0C6 | B123: T99X171.00 | C123: =+'FXC - 4th RMA FA'!D123 -> 2149688001202101287636 | D123: =+'FXC - 4th RMA FA'!G123 -> 44436 | E123: BG | F123: =+'FXC - 4th RMA FA'!E123 -> HDMI function test fail | G123: =+'FXC - 4th RMA FA'!F123 -> FIL1402 | J123: =+'FXC - 4th RMA FA'!J123 -> Under of Warranty
A124: =+'FXC - 4th RMA FA'!C124 -> B4B5B6FDD743 | B124: T99X171.00 | C124: =+'FXC - 4th RMA FA'!D124 -> 2149688001202101289440 | D124: =+'FXC - 4th RMA FA'!G124 -> 44436 | E124: BG | F124: =+'FXC - 4th RMA FA'!E124 -> USB 3.0 speed test fail | G124: =+'FXC - 4th RMA FA'!F124 -> L903 | J124: =+'FXC - 4th RMA FA'!J124 -> Under of Warranty
A125: =+'FXC - 4th RMA FA'!C125 -> B4B5B6FDF238 | B125: T99X171.00 | C125: =+'FXC - 4th RMA FA'!D125 -> 2149688001202108003006 | D125: =+'FXC - 4th RMA FA'!G125 -> 44439 | E125: BG | F125: =+'FXC - 4th RMA FA'!E125 -> Ethernet LED no light - light dim | G125: =+'FXC - 4th RMA FA'!F125 -> J801 | J125: =+'FXC - 4th RMA FA'!J125 -> Under of Warranty
A126: =+'FXC - 4th RMA FA'!C126 -> B4B5B6FDF96B | B126: T99X171.00 | C126: =+'FXC - 4th RMA FA'!D126 -> 2149688001202108002005 | D126: =+'FXC - 4th RMA FA'!G126 -> 44439 | E126: BG | F126: =+'FXC - 4th RMA FA'!E126 -> Can't download Factory FW | G126: =+'FXC - 4th RMA FA'!F126 -> U1,U602 | J126: =+'FXC - 4th RMA FA'!J126 -> Under of Warranty
A127: =+'FXC - 4th RMA FA'!C127 -> B4B5B6FE0A94 | B127: T99X171.00 | C127: =+'FXC - 4th RMA FA'!D127 -> 2149688001202108006161 | D127: =+'FXC - 4th RMA FA'!G127 -> 44439 | E127: BG | F127: =+'FXC - 4th RMA FA'!E127 -> Can't download Factory FW (Stop at 7%) | G127: =+'FXC - 4th RMA FA'!F127 -> U602 | J127: =+'FXC - 4th RMA FA'!J127 -> Under of Warranty
A128: =+'FXC - 4th RMA FA'!C128 -> B4B5B6FE3FFE | B128: T99X171.00 | C128: =+'FXC - 4th RMA FA'!D128 -> 2149688001202108022894 | D128: =+'FXC - 4th RMA FA'!G128 -> 44454 | E128: BG | F128: =+'FXC - 4th RMA FA'!E128 -> Ethernet LED no light - light dim | G128: =+'FXC - 4th RMA FA'!F128 -> J801 | J128: =+'FXC - 4th RMA FA'!J128 -> Under of Warranty
A129: =+'FXC - 4th RMA FA'!C129 -> B4B5B6FEEDC1 | B129: T99X171.00 | C129: =+'FXC - 4th RMA FA'!D129 -> 2149688001202108062622 | D129: =+'FXC - 4th RMA FA'!G129 -> 44467 | E129: BG | F129: =+'FXC - 4th RMA FA'!E129 -> Can't download Factory FW | G129: =+'FXC - 4th RMA FA'!F129 -> U1,U602 | J129: =+'FXC - 4th RMA FA'!J129 -> Under of Warranty
A130: =+'FXC - 4th RMA FA'!C130 -> B4B5B6FF0E53 | B130: T99X171.00 | C130: =+'FXC - 4th RMA FA'!D130 -> 2149688001202108074379 | D130: =+'FXC - 4th RMA FA'!G130 -> 44478 | E130: BG | F130: =+'FXC - 4th RMA FA'!E130 -> Ethernet LED no light - light dim | G130: =+'FXC - 4th RMA FA'!F130 -> J801 | J130: =+'FXC - 4th RMA FA'!J130 -> Under of Warranty
A131: =+'FXC - 4th RMA FA'!C131 -> B4B5B6FFC3F2 | B131: T99X171.00 | C131: =+'FXC - 4th RMA FA'!D131 -> 2149688001202108113992 | D131: =+'FXC - 4th RMA FA'!G131 -> 44498 | E131: BG | F131: =+'FXC - 4th RMA FA'!E131 -> Can't download Factory FW (Stop at 7%) | G131: =+'FXC - 4th RMA FA'!F131 -> U602 | J131: =+'FXC - 4th RMA FA'!J131 -> Under of Warranty
A132: =+'FXC - 4th RMA FA'!C132 -> D41B81FE4A5C | B132: T99X171.00 | C132: =+'FXC - 4th RMA FA'!D132 -> 2149688001202101176294 | D132: =+'FXC - 4th RMA FA'!G132 -> 44284 | E132: BG | F132: =+'FXC - 4th RMA FA'!E132 -> No Ping | G132: =+'FXC - 4th RMA FA'!F132 -> U1,U602 | J132: =+'FXC - 4th RMA FA'!J132 -> Under of Warranty
A133: =+'FXC - 4th RMA FA'!C133 -> D41B81FE7321 | B133: T99X171.00 | C133: =+'FXC - 4th RMA FA'!D133 -> 2149688001202101175678 | D133: =+'FXC - 4th RMA FA'!G133 -> 44284 | E133: BG | F133: =+'FXC - 4th RMA FA'!E133 -> Ethernet LED no light - light dim | G133: =+'FXC - 4th RMA FA'!F133 -> J801 | J133: =+'FXC - 4th RMA FA'!J133 -> Under of Warranty
A134: =+'FXC - 4th RMA FA'!C134 -> D41B81FE9B53 | B134: T99X171.00 | C134: =+'FXC - 4th RMA FA'!D134 -> 2149688001202101185845 | D134: =+'FXC - 4th RMA FA'!G134 -> 44314 | E134: BG | F134: =+'FXC - 4th RMA FA'!E134 -> Audio 4K function fail | G134: =+'FXC - 4th RMA FA'!F134 -> U1, U602 | J134: =+'FXC - 4th RMA FA'!J134 -> Under of Warranty
... A148: =+'FXC - 4th RMA FA'!C148 -> D41B81FFD6C7 | B148: T99X171.00 | C148: =+'FXC - 4th RMA FA'!D148 -> 2149688001202101267474 | D148: =+'FXC - 4th RMA FA'!G148 -> 44403 | E148: BG | F148: =+'FXC - 4th RMA FA'!E148 -> USB 3.0 speed test fail | G148: =+'FXC - 4th RMA FA'!F148 -> U1, U602 | J148: =+'FXC - 4th RMA FA'!J148 -> Under of Warranty
A149: 119 pcs scrap
A150: 4023438BBD62 | B150: T99X171.00 | C150: 2149688001201908017635 | D150: =VLOOKUP(C150,'[1]TOTAL SN RMA'!$A:$C,3,0) -> 43749 | E150: BG | H150: Scrap
A151: 4CEBBDB089A0 | B151: T99X171.00 | C151: 2149688001202001044241 | D151: =VLOOKUP(C151,'[1]TOTAL SN RMA'!$A:$C,3,0) -> 43908 | E151: BG | H151: Scrap
A152: 405BD86D5280 | B152: T99X171.00 | C152: 2149688001201909007762 | D152: =VLOOKUP(C152,'[1]TOTAL SN RMA'!$A:$C,3,0) -> 43776 | E152: BG | H152: Scrap
A153: 405BD86D46E4 | B153: T99X171.00 | C153: 2149688001201909021626 | D153: =VLOOKUP(C153,'[1]TOTAL SN RMA'!$A:$C,3,0) -> 43776 | E153: BG | H153: Scrap
A154: 4CEBBD1E3B40 | B154: T99X171.00 | C154: 2149688001202001001555 | D154: =VLOOKUP(C154,'[1]TOTAL SN RMA'!$A:$C,3,0) -> 43838 | E154: BG | H154: Scrap
A155: 1CBFC012117B | B155: T99X171.00 | C155: 2149688001202003064815 | D155: =VLOOKUP(C155,'[1]TOTAL SN RMA'!$A:$C,3,0) -> 43963 | E155: BG | H155: Scrap
A156: 402343CD4A7E | B156: T99X171.00 | C156: 2149688001201908039974 | D156: =VLOOKUP(C156,'[1]TOTAL SN RMA'!$A:$C,3,0) -> 43755 | E156: BG | H156: Scrap
A157: B068E6C307BD | B157: T99X171.00 | C157: 2149688001201904002291 | D157: =VLOOKUP(C157,'[1]TOTAL SN RMA'!$A:$C,3,0) -> 43683 | E157: BG | H157: Scrap
A158: 4023438B962F | B158: T99X171.00 | C158: 2149688001201908013607 | D158: =VLOOKUP(C158,'[1]TOTAL SN RMA'!$A:$C,3,0) -> 43747 | E158: BG | H158: Scrap
A159: 405BD8E2FFF3 | B159: T99X171.00 | C159: 2149688001201909088770 | D159: =VLOOKUP(C159,'[1]TOTAL SN RMA'!$A:$C,3,0) -> 43793 | E159: BG | H159: Scrap
A160: 4CEBBDB085E4 | B160: T99X171.00 | C160: 2149688001202001035616 | D160: =VLOOKUP(C160,'[1]TOTAL SN RMA'!$A:$C,3,0) -> 43906 | E160: BG | H160: Scrap
A161: 402343CD47F8 | B161: T99X171.00 | C161: 2149688001201908040335 | D161: =VLOOKUP(C161,'[1]TOTAL SN RMA'!$A:$C,3,0) -> 43755 | E161: BG | H161: Scrap
... A237: E86F385333A6 | B237: T99X171.00 | C237: 2149688001201909102804 | D237: =VLOOKUP(C237,'[1]TOTAL SN RMA'!$A:$C,3,0) -> 43811 | E237: BG | H237: Scrap
A238: 405BD86D5455 | B238: T99X171.00 | C238: 2149688001201909007623 | D238: =VLOOKUP(C238,'[1]TOTAL SN RMA'!$A:$C,3,0) -> 43776 | E238: BG | F238: Repair many times ==> Still Fail | G238: will not charge the cost to the customer | H238: Scrap
A239: 405BD86D2EC8 | B239: T99X171.00 | C239: 2149688001201909001328 | D239: =VLOOKUP(C239,'[1]TOTAL SN RMA'!$A:$C,3,0) -> 43776 | E239: BG | F239: Repair many times ==> Still Fail | G239: will not charge the cost to the customer | H239: Scrap
A240: 8CC84B44B35E | B240: T99X171.00 | C240: 2149688001202003016954 | D240: =VLOOKUP(C240,'[1]TOTAL SN RMA'!$A:$C,3,0) -> 43944 | E240: BG | H240: Scrap
A241: 1CBFC01220E0 | B241: T99X171.00 | C241: 2149688001202003058552 | D241: =VLOOKUP(C241,'[1]TOTAL SN RMA'!$A:$C,3,0) -> 43962 | E241: BG | F241: Repair many times ==> Still Fail | G241: will not charge the cost to the customer | H241: Scrap
A242: 4023438B8784 | B242: T99X171.00 | C242: 2149688001201908005559 | D242: =VLOOKUP(C242,'[1]TOTAL SN RMA'!$A:$C,3,0) -> 43738 | E242: BG | H242: Scrap
A243: 8CC84B0B04D4 | B243: T99X171.00 | C243: 2149688001202001104072 | D243: =VLOOKUP(C243,'[1]TOTAL SN RMA'!$A:$C,3,0) -> 43936 | E243: BG | H243: Scrap
A244: 405BD86D4B2E | B244: T99X171.00 | C244: 2149688001201909020555 | D244: =VLOOKUP(C244,'[1]TOTAL SN RMA'!$A:$C,3,0) -> 43776 | E244: BG | H244: Scrap
A245: 405BD8E2BB74 | B245: T99X171.00 | C245: 2149688001201909071737 | D245: =VLOOKUP(C245,'[1]TOTAL SN RMA'!$A:$C,3,0) -> 43788 | E245: BG | H245: Scrap
A246: ACD5648A9301 | B246: T99X171.00 | C246: 2149688001201904020754 | D246: =VLOOKUP(C246,'[1]TOTAL SN RMA'!$A:$C,3,0) -> 43727 | E246: BG | H246: Scrap
A247: ACD5648A6EEB | B247: T99X171.00 | C247: 2149688001201904011516 | D247: =VLOOKUP(C247,'[1]TOTAL SN RMA'!$A:$C,3,0) -> 43720 | E247: BG | F247: Repair many times ==> Still Fail | G247: will not charge the cost to the customer | H247: Scrap
A248: 40234355DB19 | B248: T99X171.00 | C248: 2149688001201908000037 | D248: =VLOOKUP(C248,'[1]TOTAL SN RMA'!$A:$C,3,0) -> 43738 | E248: BG | F248: Repair many times ==> Still Fail | G248: will not charge the cost to the customer | H248: Scrap
A249: 402343CD1571 | B249: T99X171.00 | C249: 2149688001201908043996 | D249: =VLOOKUP(C249,'[1]TOTAL SN RMA'!$A:$C,3,0) -> 43755 | E249: BG | H249: Scrap
A250: 4CEBBDB04BB1 | B250: T99X171.00 | C250: 2149688001202001039663 | D250: =VLOOKUP(C250,'[1]TOTAL SN RMA'!$A:$C,3,0) -> 43906 | E250: BG | H250: Scrap
A251: B068E6C31E2E | B251: T99X171.00 | C251: 2149688001201904008036 | D251: =VLOOKUP(C251,'[1]TOTAL SN RMA'!$A:$C,3,0) -> 43683 | E251: BG | F251: Repair many times ==> Still Fail | G251: will not charge the cost to the customer | H251: Scrap
A252: 402343CD0450 | B252: T99X171.00 | C252: 2149688001201908034227 | D252: =VLOOKUP(C252,'[1]TOTAL SN RMA'!$A:$C,3,0) -> 43755 | E252: BG | F252: Repair many times ==> Still Fail | G252: will not charge the cost to the customer | H252: Scrap
A253: E86F388AEFF3 | B253: T99X171.00 | C253: 2149688001201909132677 | D253: =VLOOKUP(C253,'[1]TOTAL SN RMA'!$A:$C,3,0) -> 43821 | E253: BG | H253: Scrap
A254: 405BD824698F | B254: T99X171.00 | C254: 2149688001201908077862 | D254: =VLOOKUP(C254,'[1]TOTAL SN RMA'!$A:$C,3,0) -> 43764 | E254: BG | F254: Repair many times ==> Still Fail | G254: will not charge the cost to the customer | H254: Scrap
A255: 1CBFC0568872 | B255: T99X171.00 | C255: 2149688001202005011796 | D255: =VLOOKUP(C255,'[1]TOTAL SN RMA'!$A:$C,3,0) -> 43970 | E255: BG | F255: Repair many times ==> Still Fail | G255: will not charge the cost to the customer | H255: Scrap
A256: 4023438BB944 | B256: T99X171.00 | C256: 2149688001201908023966 | D256: =VLOOKUP(C256,'[1]TOTAL SN RMA'!$A:$C,3,0) -> 43749 | E256: BG | F256: Repair many times ==> Still Fail | G256: will not charge the cost to the customer | H256: Scrap
A257: B068E6C3086C | B257: T99X171.00 | C257: 2149688001201904002466 | D257: =VLOOKUP(C257,'[1]TOTAL SN RMA'!$A:$C,3,0) -> 43683 | E257: BG | F257: Repair many times ==> Still Fail | G257: will not charge the cost to the customer | H257: Scrap
...

Sheet FXC - 4th RMA FA
A1: No | B1: SN | C1: MAC | D1: SHIPPING SN | E1: Fail symprom | F1: Repair location | G1: SHIPPING DATE | H1: Return Date | I1: Warranty 1 | J1: Warranty 2 | K1: Referance | L1: TW RD Failure Analysis | M1: FXC PE Inspection | N1: FXC PE Failure Analysis | O1: Root cause | P1: Action
A2: 1 | C2: 1CBFC0F8FAD3 | D2: 2149688001202005037279 | E2: No Ping | F2: U1, U602 | G2: =VLOOKUP(D2,'[1]TOTAL SN RMA'!$A:$C,3,0) -> 43992 | H2: =VLOOKUP(D2,[2]Sheet1!$A:$E,5,0) -> 0 | I2: Out of Warranty
A3: 2 | C3: 1CBFC0F90282 | D3: 2149688001202005035915 | E3: Ethernet LED no light - light dim | F3: J801 | G3: =VLOOKUP(D3,'[1]TOTAL SN RMA'!$A:$C,3,0) -> 43992 | H3: =VLOOKUP(D3,[2]Sheet1!$A:$E,5,0) -> 0 | I3: Out of Warranty
A4: 3 | C4: 1CBFC0F91782 | D4: 2149688001202005033845 | E4: Ethernet LED no light - light dim | F4: J801 | G4: =VLOOKUP(D4,'[1]TOTAL SN RMA'!$A:$C,3,0) -> 43992 | H4: =VLOOKUP(D4,[2]Sheet1!$A:$E,5,0) -> 0 | I4: Out of Warranty
A5: 4 | C5: 1CBFC0F919D5 | D5: 2149688001202005030370 | E5: Can't download Factory FW (Stop at 7%) | F5: U602 | G5: =VLOOKUP(D5,'[1]TOTAL SN RMA'!$A:$C,3,0) -> 43992 | H5: =VLOOKUP(D5,[2]Sheet1!$A:$E,5,0) -> 0 | I5: Out of Warranty
A6: 5 | C6: 28CDC4003DD3 | D6: 2149688001202005072232 | E6: Can't download Factory FW | F6: U1, U602 | G6: =VLOOKUP(D6,'[1]TOTAL SN RMA'!$A:$C,3,0) -> 44019 | H6: =VLOOKUP(D6,[2]Sheet1!$A:$E,5,0) -> 0 | I6: Out of Warranty
A7: 6 | C7: 28CDC40043E4 | D7: 2149688001202005070354 | E7: Ethernet LED no light - light dim | F7: J801 | G7: =VLOOKUP(D7,'[1]TOTAL SN RMA'!$A:$C,3,0) -> 44019 | H7: =VLOOKUP(D7,[2]Sheet1!$A:$E,5,0) -> 0 | I7: Out of Warranty
A8: 7 | C8: 28CDC4005317 | D8: 2149688001202005078638 | E8: No Ping | F8: U602, U1001 | G8: =VLOOKUP(D8,'[1]TOTAL SN RMA'!$A:$C,3,0) -> 44026 | H8: =VLOOKUP(D8,[3]Sheet1!$A:$E,5,0) -> 0 | I8: Out of Warranty
A9: 8 | C9: 28CDC4005762 | D9: 2149688001202005078579 | E9: Can't download Factory FW (Stop at 7%) | F9: U602 | G9: =VLOOKUP(D9,'[1]TOTAL SN RMA'!$A:$C,3,0) -> 44026 | H9: =VLOOKUP(D9,[2]Sheet1!$A:$E,5,0) -> 0 | I9: Out of Warranty
A10: 9 | C10: 28CDC4005B85 | D10: 2149688001202005076739 | E10: Boot up fail | F10: U302 | G10: =VLOOKUP(D10,'[1]TOTAL SN RMA'!$A:$C,3,0) -> 44026 | H10: =VLOOKUP(D10,[2]Sheet1!$A:$E,5,0) -> 0 | I10: Out of Warranty
A11: 10 | C11: 28CDC4096FE5 | D11: 2149688001202005099461 | E11: Ethernet LED no light - light dim | F11: J801 | G11: =VLOOKUP(D11,'[1]TOTAL SN RMA'!$A:$C,3,0) -> 44026 | H11: =VLOOKUP(D11,[2]Sheet1!$A:$E,5,0) -> 0 | I11: Out of Warranty
A12: 11 | C12: 28CDC4097371 | D12: 2149688001202005099585 | E12: LED defect | F12: Q1002 | G12: =VLOOKUP(D12,'[1]TOTAL SN RMA'!$A:$C,3,0) -> 07/14/2020 | H12: 20221214 | I12: Out of Warranty
A13: 12 | C13: 28CDC4097647 | D13: 2149688001202005081257 | E13: Can't download Factory FW | F13: U1, U602 | G13: =VLOOKUP(D13,'[1]TOTAL SN RMA'!$A:$C,3,0) -> 44027 | H13: =VLOOKUP(D13,[2]Sheet1!$A:$E,5,0) -> 0 | I13: Out of Warranty
A14: 13 | C14: 28CDC4097710 | D14: 2149688001202005080961 | E14: Ethernet LED no light - light dim | F14: J801 | G14: =VLOOKUP(D14,'[1]TOTAL SN RMA'!$A:$C,3,0) -> 44027 | H14: =VLOOKUP(D14,[2]Sheet1!$A:$E,5,0) -> 0 | I14: Out of Warranty
A15: 14 | C15: 28CDC40977B4 | D15: 2149688001202005079914 | E15: Boot up fail | F15: U308 | G15: =VLOOKUP(D15,'[1]TOTAL SN RMA'!$A:$C,3,0) -> 44026 | H15: =VLOOKUP(D15,[3]Sheet1!$A:$E,5,0) -> 0 | I15: Out of Warranty
A16: 15 | C16: 28CDC4098050 | D16: 2149688001202005081929 | E16: Ethernet LED no light - light dim | F16: J801 | G16: =VLOOKUP(D16,'[1]TOTAL SN RMA'!$A:$C,3,0) -> 44026 | H16: =VLOOKUP(D16,[2]Sheet1!$A:$E,5,0) -> 0 | I16: Out of Warranty
A17: 16 | C17: 28CDC4099E33 | D17: 2149688001202005086463 | E17: Audio 4K function fail | F17: U1, U602 | G17: =VLOOKUP(D17,'[1]TOTAL SN RMA'!$A:$C,3,0) -> 44026 | H17: =VLOOKUP(D17,[2]Sheet1!$A:$E,5,0) -> 0 | I17: Out of Warranty
A18: 17 | C18: 28CDC409A19A | D18: 2149688001202005091949 | E18: HDMI function test fail | F18: FIL1402 | G18: =VLOOKUP(D18,'[1]TOTAL SN RMA'!$A:$C,3,0) -> 44026 | H18: 20221214 | I18: Out of Warranty
A19: 18 | C19: 28CDC409A22E | D19: 2149688001202005091491 | E19: Ethernet LED no light - light dim | F19: J801 | G19: =VLOOKUP(D19,'[1]TOTAL SN RMA'!$A:$C,3,0) -> 44026 | H19: 20221214 | I19: Out of Warranty
A20: 19 | C20: 28CDC45CDDC2 | D20: 2149688001202005103145 | E20: Lan port link speed check failure ( link speed=100Mbps lower than spec=1Gbps ) | F20: U801 | G20: =VLOOKUP(D20,'[1]TOTAL SN RMA'!$A:$C,3,0) -> 44041 | H20: =VLOOKUP(D20,[3]Sheet1!$A:$E,5,0) -> 0 | I20: Out of Warranty
A21: 20 | C21: 28CDC4FA9742 | D21: 2149688001202101126802 | E21: No Ping | F21: U1, U602 | G21: =VLOOKUP(D21,'[1]TOTAL SN RMA'!$A:$C,3,0) -> 44272 | H21: 20221214 | J21: Under of Warranty
A22: 21 | C22: 28CDC4FAA186 | D22: 2149688001202101129134 | E22: Ethernet LED no light - light dim | F22: J801 | G22: =VLOOKUP(D22,'[1]TOTAL SN RMA'!$A:$C,3,0) -> 44272 | H22: =VLOOKUP(D22,[2]Sheet1!$A:$E,5,0) -> 0 | J22: Under of Warranty
A23: 22 | C23: 28CDC4FAA6E7 | D23: 2149688001202101132568 | E23: Ethernet LED no light - light dim | F23: J801 | G23: =VLOOKUP(D23,'[1]TOTAL SN RMA'!$A:$C,3,0) -> 44274 | H23: =VLOOKUP(D23,[3]Sheet1!$A:$E,5,0) -> 0 | J23: Under of Warranty
A24: 23 | C24: 28CDC4FAA83E | D24: 2149688001202101130489 | E24: Ethernet LED no light - light dim | F24: J801 | G24: =VLOOKUP(D24,'[1]TOTAL SN RMA'!$A:$C,3,0) -> 44272 | H24: =VLOOKUP(D24,[2]Sheet1!$A:$E,5,0) -> 0 | J24: Under of Warranty
A25: 24 | C25: 28CDC4FAD344 | D25: 2149688001202101144986 | E25: Ethernet LED no light - light dim | F25: J801 | G25: =VLOOKUP(D25,'[1]TOTAL SN RMA'!$A:$C,3,0) -> 44285 | H25: =VLOOKUP(D25,[2]Sheet1!$A:$E,5,0) -> 0 | J25: Under of Warranty
A26: 25 | C26: 28CDC4FB0B45 | D26: 2149688001202101158452 | E26: Can't download Factory FW (Stop at 7%) | F26: U602 | G26: =VLOOKUP(D26,'[1]TOTAL SN RMA'!$A:$C,3,0) -> 44285 | H26: =VLOOKUP(D26,[2]Sheet1!$A:$E,5,0) -> 0 | J26: Under of Warranty
A27: 26 | C27: 28CDC4FB205E | D27: 2149688001202005107967 | E27: Lan port link speed check failure ( link speed=100Mbps lower than spec=1Gbps ) | F27: U801 | G27: =VLOOKUP(D27,'[1]TOTAL SN RMA'!$A:$C,3,0) -> 44041 | H27: =VLOOKUP(D27,[2]Sheet1!$A:$E,5,0) -> 0 | I27: Out of Warranty
A28: 27 | C28: 28CDC4FB2282 | D28: 2149688001202005108899 | E28: Lan port link speed check failure ( link speed=100Mbps lower than spec=1Gbps ) | F28: U801 | G28: =VLOOKUP(D28,'[1]TOTAL SN RMA'!$A:$C,3,0) -> 44041 | H28: =VLOOKUP(D28,[2]Sheet1!$A:$E,5,0) -> 0 | I28: Out of Warranty
A29: 28 | C29: 28CDC4FB3CD7 | D29: 2149688001202005113569 | E29: Can't download Factory FW (Stop at 7%) | F29: U602 | G29: =VLOOKUP(D29,'[1]TOTAL SN RMA'!$A:$C,3,0) -> 44041 | H29: =VLOOKUP(D29,[2]Sheet1!$A:$E,5,0) -> 0 | I29: Out of Warranty
A30: 29 | C30: 28CDC4FB414D | D30: 2149688001202005115826 | E30: Can't download Factory FW | F30: U1, U602 | G30: =VLOOKUP(D30,'[1]TOTAL SN RMA'!$A:$C,3,0) -> 44041 | H30: =VLOOKUP(D30,[2]Sheet1!$A:$E,5,0) -> 0 | I30: Out of Warranty
A31: 30 | C31: 28CDC4FB429D | D31: 2149688001202005126481 | E31: audio function fail | F31: U1, U1101 | G31: =VLOOKUP(D31,'[1]TOTAL SN RMA'!$A:$C,3,0) -> 44048 | H31: =VLOOKUP(D31,[2]Sheet1!$A:$E,5,0) -> 0 | I31: Out of Warranty
A32: 31 | C32: 28CDC4FB4321 | D32: 2149688001202005114964 | E32: Can't download Factory FW (Stop at 7%) | F32: U602 | G32: =VLOOKUP(D32,'[1]TOTAL SN RMA'!$A:$C,3,0) -> 44041 | H32: =VLOOKUP(D32,[2]Sheet1!$A:$E,5,0) -> 0 | I32: Out of Warranty
A33: 32 | C33: 28CDC4FB4D3F | D33: 2149688001202005126178 | E33: Can't download Factory FW | F33: U1, U602 | G33: =VLOOKUP(D33,'[1]TOTAL SN RMA'!$A:$C,3,0) -> 44047 | H33: =VLOOKUP(D33,[3]Sheet1!$A:$E,5,0) -> 0 | I33: Out of Warranty
A34: 33 | C34: 28CDC4FB531F | D34: 2149688001202005120071 | E34: Can't download Factory FW | F34: U1, U602 | G34: =VLOOKUP(D34,'[1]TOTAL SN RMA'!$A:$C,3,0) -> 44048 | H34: =VLOOKUP(D34,[2]Sheet1!$A:$E,5,0) -> 0 | I34: Out of Warranty
A35: 34 | C35: 28CDC4FB5C14 | D35: 2149688001202005123729 | E35: Can't download Factory FW (Stop at 7%) | F35: U602 | G35: =VLOOKUP(D35,'[1]TOTAL SN RMA'!$A:$C,3,0) -> 44047 | H35: =VLOOKUP(D35,[2]Sheet1!$A:$E,5,0) -> 0 | I35: Out of Warranty
A36: 35 | C36: 28CDC4FB63BA | D36: 2149688001202005126208 | E36: Ethernet LED no light - light dim | F36: J801 | G36: =VLOOKUP(D36,'[1]TOTAL SN RMA'!$A:$C,3,0) -> 44047 | H36: =VLOOKUP(D36,[2]Sheet1!$A:$E,5,0) -> 0 | I36: Out of Warranty
A37: 36 | C37: 28CDC4FB6B2F | D37: 2149688001202005138674 | E37: Can't download Factory FW (Stop at 7%) | F37: U602 | G37: =VLOOKUP(D37,'[1]TOTAL SN RMA'!$A:$C,3,0) -> 44047 | H37: =VLOOKUP(D37,[2]Sheet1!$A:$E,5,0) -> 0 | I37: Out of Warranty
A38: 37 | C38: 28CDC4FB6D90 | D38: 2149688001202005141021 | E38: No Ping | F38: U1, U602 | G38: =VLOOKUP(D38,'[1]TOTAL SN RMA'!$A:$C,3,0) -> 44047 | H38: =VLOOKUP(D38,[2]Sheet1!$A:$E,5,0) -> 0 | I38: Out of Warranty
A39: 38 | C39: 28CDC4FB7682 | D39: 2149688001202005132887 | E39: No Ping | F39: T801 | G39: =VLOOKUP(D39,'[1]TOTAL SN RMA'!$A:$C,3,0) -> 44047 | H39: =VLOOKUP(D39,[2]Sheet1!$A:$E,5,0) -> 0 | I39: Out of Warranty
A40: 39 | C40: 28CDC4FB7931 | D40: 2149688001202005132121 | E40: Ethernet LED no light - light dim | F40: J801 | G40: =VLOOKUP(D40,'[1]TOTAL SN RMA'!$A:$C,3,0) -> 44047 | H40: =VLOOKUP(D40,[2]Sheet1!$A:$E,5,0) -> 0 | I40: Out of Warranty
A41: 40 | C41: 28CDC4FB858D | D41: 2149688001202005137465 | E41: Button check fail | F41: SW902 | G41: =VLOOKUP(D41,'[1]TOTAL SN RMA'!$A:$C,3,0) -> 44047 | H41: =VLOOKUP(D41,[3]Sheet1!$A:$E,5,0) -> 0 | I41: Out of Warranty
A42: 41 | C42: 28CDC4FB8E81 | D42: 2149688001202005133835 | E42: Boot up fail | F42: U308 | G42: =VLOOKUP(D42,'[1]TOTAL SN RMA'!$A:$C,3,0) -> 44047 | H42: 20221214 | I42: Out of Warranty
A43: 42 | C43: 28CDC4FBAAEB | D43: 2149688001202005141465 | E43: Boot up fail | F43: U308 | G43: =VLOOKUP(D43,'[1]TOTAL SN RMA'!$A:$C,3,0) -> 44047 | H43: =VLOOKUP(D43,[2]Sheet1!$A:$E,5,0) -> 0 | I43: Out of Warranty
A44: 43 | C44: 28CDC4FBB0D4 | D44: 2149688001202005149257 | E44: Can't download Factory FW | F44: U1, U602 | G44: =VLOOKUP(D44,'[1]TOTAL SN RMA'!$A:$C,3,0) -> 44048 | H44: =VLOOKUP(D44,[3]Sheet1!$A:$E,5,0) -> 0 | I44: Out of Warranty
A45: 44 | C45: 28CDC4FBB6BA | D45: 2149688001202005147067 | E45: Can't download Factory FW | F45: U1, U602 | G45: =VLOOKUP(D45,'[1]TOTAL SN RMA'!$A:$C,3,0) -> 44047 | H45: =VLOOKUP(D45,[3]Sheet1!$A:$E,5,0) -> 0 | I45: Out of Warranty
A46: 45 | C46: 28CDC4FBC2E6 | D46: 2149688001202005145876 | E46: USB 3.0 speed test fail | F46: U1, U602 | G46: =VLOOKUP(D46,'[1]TOTAL SN RMA'!$A:$C,3,0) -> 44047 | H46: =VLOOKUP(D46,[2]Sheet1!$A:$E,5,0) -> 0 | I46: Out of Warranty
A47: 46 | C47: 28CDC4FBEC8C | D47: 2149688001202005162884 | E47: Reboot | F47: U1,U602 | G47: =VLOOKUP(D47,'[1]TOTAL SN RMA'!$A:$C,3,0) -> 44089 | H47: =VLOOKUP(D47,[2]Sheet1!$A:$E,5,0) -> 0 | I47: Out of Warranty
A48: 47 | C48: 28CDC4FBECF8 | D48: 2149688001202005162745 | E48: Can't download Factory FW (Stop at 7%) | F48: U602 | G48: =VLOOKUP(D48,'[1]TOTAL SN RMA'!$A:$C,3,0) -> 44089 | H48: =VLOOKUP(D48,[2]Sheet1!$A:$E,5,0) -> 0 | I48: Out of Warranty
A49: 48 | C49: 28CDC4FBF3D0 | D49: 2149688001202005161369 | E49: Boot up fail | F49: U308 | G49: =VLOOKUP(D49,'[1]TOTAL SN RMA'!$A:$C,3,0) -> 44089 | H49: =VLOOKUP(D49,[2]Sheet1!$A:$E,5,0) -> 0 | I49: Out of Warranty
A50: 49 | C50: 28CDC4FC06CF | D50: 2149688001202005168040 | E50: Can't download Factory FW | F50: U602,U902 | G50: =VLOOKUP(D50,'[1]TOTAL SN RMA'!$A:$C,3,0) -> 44089 | H50: =VLOOKUP(D50,[2]Sheet1!$A:$E,5,0) -> 0 | I50: Out of Warranty
A51: 50 | C51: 28CDC4FC1BA5 | D51: 2149688001202005175719 | E51: No HDMI output | F51: FIL1401 | G51: =VLOOKUP(D51,'[1]TOTAL SN RMA'!$A:$C,3,0) -> 09/15/2020 | H51: 20221214 | I51: Out of Warranty
A52: 51 | C52: 28CDC4FC25E4 | D52: 2149688001202005179688 | E52: audio function fail | F52: U1101 | G52: =VLOOKUP(D52,'[1]TOTAL SN RMA'!$A:$C,3,0) -> 44089 | H52: =VLOOKUP(D52,[2]Sheet1!$A:$E,5,0) -> 0 | I52: Out of Warranty
A53: 52 | C53: 28CDC4FC2914 | D53: 2149688001202005171523 | E53: Can't download Factory FW | F53: U602 | G53: =VLOOKUP(D53,'[1]TOTAL SN RMA'!$A:$C,3,0) -> 44089 | H53: =VLOOKUP(D53,[2]Sheet1!$A:$E,5,0) -> 0 | I53: Out of Warranty
A54: 53 | C54: 28CDC4FC4C1C | D54: 2149688001202005182540 | E54: Ethernet LED no light - light dim | F54: J801 | G54: =VLOOKUP(D54,'[1]TOTAL SN RMA'!$A:$C,3,0) -> 44090 | H54: =VLOOKUP(D54,[2]Sheet1!$A:$E,5,0) -> 0 | I54: Out of Warranty
A55: 54 | C55: 28CDC4FC5068 | D55: 2149688001202005185736 | E55: No Ping | F55: U801 | G55: =VLOOKUP(D55,'[1]TOTAL SN RMA'!$A:$C,3,0) -> 44090 | H55: =VLOOKUP(D55,[2]Sheet1!$A:$E,5,0) -> 0 | I55: Out of Warranty
A56: 55 | C56: 28CDC4FC5570 | D56: 2149688001202005188532 | E56: Can't download Factory FW (Stop at 7%) | F56: U602 | G56: =VLOOKUP(D56,'[1]TOTAL SN RMA'!$A:$C,3,0) -> 44090 | H56: =VLOOKUP(D56,[2]Sheet1!$A:$E,5,0) -> 0 | I56: Out of Warranty
A57: 56 | C57: 28CDC4FC690E | D57: 2149688001202009000405 | E57: Ethernet LED no light - light dim | F57: J801 | G57: =VLOOKUP(D57,'[1]TOTAL SN RMA'!$A:$C,3,0) -> 44118 | H57: =VLOOKUP(D57,[2]Sheet1!$A:$E,5,0) -> 0 | I57: Out of Warranty
A58: 57 | C58: 28CDC4FC74BB | D58: 2149688001202009005369 | E58: No Ping | F58: U801 | G58: =VLOOKUP(D58,'[1]TOTAL SN RMA'!$A:$C,3,0) -> 44118 | H58: =VLOOKUP(D58,[2]Sheet1!$A:$E,5,0) -> 0 | I58: Out of Warranty
A59: 58 | C59: 28CDC4FC907F | D59: 2149688001202009013813 | E59: Ethernet LED no light - light dim | F59: J801 | G59: =VLOOKUP(D59,'[1]TOTAL SN RMA'!$A:$C,3,0) -> 44118 | H59: =VLOOKUP(D59,[2]Sheet1!$A:$E,5,0) -> 0 | I59: Out of Warranty
A60: 59 | C60: 28CDC4FCA2B4 | D60: 2149688001202009018457 | E60: Ethernet LED no light - light dim | F60: J801 | G60: =VLOOKUP(D60,'[1]TOTAL SN RMA'!$A:$C,3,0) -> 44118 | H60: =VLOOKUP(D60,[2]Sheet1!$A:$E,5,0) -> 0 | I60: Out of Warranty
A61: 60 | C61: 28CDC4FCAB52 | D61: 2149688001202009016767 | E61: Ethernet LED no light - light dim | F61: J801 | G61: =VLOOKUP(D61,'[1]TOTAL SN RMA'!$A:$C,3,0) -> 44118 | H61: =VLOOKUP(D61,[2]Sheet1!$A:$E,5,0) -> 0 | I61: Out of Warranty
A62: 61 | C62: 28CDC4FCF113 | D62: 2149688001202009038177 | E62: RCU fail | F62: U402 | G62: =VLOOKUP(D62,'[1]TOTAL SN RMA'!$A:$C,3,0) -> 44140 | H62: =VLOOKUP(D62,[2]Sheet1!$A:$E,5,0) -> 0 | I62: Out of Warranty
A63: 62 | C63: 28CDC4FCFD00 | D63: 2149688001202009040394 | E63: RCU fail | F63: U402 | G63: =VLOOKUP(D63,'[1]TOTAL SN RMA'!$A:$C,3,0) -> 44140 | H63: =VLOOKUP(D63,[2]Sheet1!$A:$E,5,0) -> 0 | I63: Out of Warranty
... A65: 64 | C65: 28CDC4FD0CB7 | D65: 2149688001202009042781 | E65: Audio 4K function fail | F65: U1, U602 | G65: =VLOOKUP(D65,'[1]TOTAL SN RMA'!$A:$C,3,0) -> 44140 | H65: =VLOOKUP(D65,[2]Sheet1!$A:$E,5,0) -> 0 | I65: Out of Warranty
A66: 65 | C66: 28CDC4FDB5F2 | D66: 2149688001202009084938 | E66: Can't download Factory FW | F66: U1,U602 | G66: =VLOOKUP(D66,'[1]TOTAL SN RMA'!$A:$C,3,0) -> 44181 | H66: =VLOOKUP(D66,[2]Sheet1!$A:$E,5,0) -> 0 | J66: Under of Warranty
A67: 66 | C67: 28CDC4FDD055 | D67: 2149688001202009092416 | E67: Ethernet LED no light - light dim | F67: J801 | G67: =VLOOKUP(D67,'[1]TOTAL SN RMA'!$A:$C,3,0) -> 44181 | H67: =VLOOKUP(D67,[2]Sheet1!$A:$E,5,0) -> 0 | J67: Under of Warranty
A68: 67 | C68: 28CDC4FDE5D1 | D68: 2149688001202009094794 | E68: Boot up fail | F68: U504 | G68: =VLOOKUP(D68,'[1]TOTAL SN RMA'!$A:$C,3,0) -> 44182 | H68: =VLOOKUP(D68,[2]Sheet1!$A:$E,5,0) -> 0 | J68: Under of Warranty
A69: 68 | C69: 28CDC4FDF252 | D69: 2149688001202009109074 | E69: Check HDMI video noise fail | F69: U1, U602 | G69: =VLOOKUP(D69,'[1]TOTAL SN RMA'!$A:$C,3,0) -> 44183 | H69: 20221214 | J69: Under of Warranty
A70: 69 | C70: 28CDC4FE1677 | D70: 2149688001202101000077 | E70: HDMI function test fail | F70: J1401 | G70: =VLOOKUP(D70,'[1]TOTAL SN RMA'!$A:$C,3,0) -> 44207 | H70: =VLOOKUP(D70,[2]Sheet1!$A:$E,5,0) -> 0 | J70: Under of Warranty
A71: 70 | C71: 28CDC4FE1C8B | D71: 2149688001202101004612 | E71: Can't download Factory FW (Stop at 7%) | F71: U602 | G71: =VLOOKUP(D71,'[1]TOTAL SN RMA'!$A:$C,3,0) -> 44207 | H71: =VLOOKUP(D71,[2]Sheet1!$A:$E,5,0) -> 0 | J71: Under of Warranty
A72: 71 | C72: 28CDC4FE1CFB | D72: 2149688001202101002570 | E72: Can't download Factory FW (Stop at 7%) | F72: U602 | G72: =VLOOKUP(D72,'[1]TOTAL SN RMA'!$A:$C,3,0) -> 44207 | H72: =VLOOKUP(D72,[2]Sheet1!$A:$E,5,0) -> 0 | J72: Under of Warranty
A73: 72 | C73: 28CDC4FE20A5 | D73: 2149688001202101002246 | E73: Ethernet LED no light - light dim | F73: J801 | G73: =VLOOKUP(D73,'[1]TOTAL SN RMA'!$A:$C,3,0) -> 44207 | H73: =VLOOKUP(D73,[2]Sheet1!$A:$E,5,0) -> 0 | J73: Under of Warranty
A74: 73 | C74: 28CDC4FE2F58 | D74: 2149688001202101009419 | E74: No Ping | F74: U801 | G74: =VLOOKUP(D74,'[1]TOTAL SN RMA'!$A:$C,3,0) -> 44207 | H74: 20221214 | J74: Under of Warranty
A75: 74 | C75: 28CDC4FE5485 | D75: 2149688001202101015889 | E75: No HDMI output | F75: FIL1401 | G75: =VLOOKUP(D75,'[1]TOTAL SN RMA'!$A:$C,3,0) -> 01/19/2021 | H75: 20221214 | J75: Under of Warranty
A76: 75 | C76: 28CDC4FE912E | D76: 2149688001202101033950 | E76: Ethernet LED no light - light dim | F76: J801 | G76: =VLOOKUP(D76,'[1]TOTAL SN RMA'!$A:$C,3,0) -> 44215 | H76: 20221214 | J76: Under of Warranty
A77: 76 | C77: 28CDC4FEC6B8 | D77: 2149688001202101050176 | E77: Ethernet LED no light - light dim | F77: J801 | G77: =VLOOKUP(D77,'[1]TOTAL SN RMA'!$A:$C,3,0) -> 44222 | H77: =VLOOKUP(D77,[2]Sheet1!$A:$E,5,0) -> 0 | J77: Under of Warranty
A78: 77 | C78: 28CDC4FED926 | D78: 2149688001202101057095 | E78: Can't download Factory FW (Stop at 7%) | F78: U602 | G78: =VLOOKUP(D78,'[1]TOTAL SN RMA'!$A:$C,3,0) -> 44222 | H78: =VLOOKUP(D78,[2]Sheet1!$A:$E,5,0) -> 0 | J78: Under of Warranty
A79: 78 | C79: 28CDC4FEE95E | D79: 2149688001202101055949 | E79: RCU fail | F79: U402 | G79: =VLOOKUP(D79,'[1]TOTAL SN RMA'!$A:$C,3,0) -> 44222 | H79: =VLOOKUP(D79,[2]Sheet1!$A:$E,5,0) -> 0 | J79: Under of Warranty
A80: 79 | C80: 28CDC4FEFAA9 | D80: 2149688001202101061314 | E80: Ethernet LED no light - light dim | F80: J801 | G80: =VLOOKUP(D80,'[1]TOTAL SN RMA'!$A:$C,3,0) -> 44236 | H80: =VLOOKUP(D80,[2]Sheet1!$A:$E,5,0) -> 0 | J80: Under of Warranty
A81: 80 | C81: 28CDC4FEFC71 | D81: 2149688001202101060923 | E81: RCU fail | F81: U402 | G81: =VLOOKUP(D81,'[1]TOTAL SN RMA'!$A:$C,3,0) -> 44236 | H81: =VLOOKUP(D81,[2]Sheet1!$A:$E,5,0) -> 0 | J81: Under of Warranty
A82: 81 | C82: 28CDC4FF4139 | D82: 2149688001202101077100 | E82: Can't download Factory FW | F82: U1,U602 | G82: =VLOOKUP(D82,'[1]TOTAL SN RMA'!$A:$C,3,0) -> 44236 | H82: =VLOOKUP(D82,[2]Sheet1!$A:$E,5,0) -> 0 | J82: Under of Warranty
A83: 82 | C83: 28CDC4FF4A2E | D83: 2149688001202101089422 | E83: Lan port link speed check failure ( link speed=100Mbps lower than spec=1Gbps ) | F83: U801 | G83: =VLOOKUP(D83,'[1]TOTAL SN RMA'!$A:$C,3,0) -> 44254 | H83: =VLOOKUP(D83,[2]Sheet1!$A:$E,5,0) -> 0 | J83: Under of Warranty
A84: 83 | C84: 38D57AD8181A | D84: 2149688001202201077254 | E84: Audio 4K function fail | F84: U1, U602 | G84: =VLOOKUP(D84,'[1]TOTAL SN RMA'!$A:$C,3,0) -> 44587 | H84: =VLOOKUP(D84,[2]Sheet1!$A:$E,5,0) -> 0 | J84: Under of Warranty
A85: 84 | C85: 38D57AD831EA | D85: 2149688001202201077681 | E85: No boot | F85: U1,U1001,U801,U602,U1101 | G85: =VLOOKUP(D85,'[1]TOTAL SN RMA'!$A:$C,3,0) -> 44587 | H85: 20221214 | J85: Under of Warranty
A86: 85 | C86: 38D57AD85676 | D86: 2149688001202201101843 | E86: No Ping | F86: U1,U602 | G86: =VLOOKUP(D86,'[1]TOTAL SN RMA'!$A:$C,3,0) -> 44606 | H86: =VLOOKUP(D86,[2]Sheet1!$A:$E,5,0) -> 0 | J86: Under of Warranty
A87: 86 | C87: 38D57AD8796F | D87: 2149688001202201097367 | E87: Ethernet LED no light - light dim | F87: J801 | G87: =VLOOKUP(D87,'[1]TOTAL SN RMA'!$A:$C,3,0) -> 44606 | H87: =VLOOKUP(D87,[2]Sheet1!$A:$E,5,0) -> 0 | J87: Under of Warranty
A88: 87 | C88: 38D57AD8B81F | D88: 2149688001202201111955 | E88: Ethernet LED no light - light dim | F88: J801 | G88: =VLOOKUP(D88,'[1]TOTAL SN RMA'!$A:$C,3,0) -> 44616 | H88: =VLOOKUP(D88,[2]Sheet1!$A:$E,5,0) -> 0 | J88: Under of Warranty
A89: 88 | C89: 38D57AD8ECA5 | D89: 2149688001202201127388 | E89: No boot | F89: U1,U602,U801,U1001 | G89: =VLOOKUP(D89,'[1]TOTAL SN RMA'!$A:$C,3,0) -> 44618 | H89: 20221214 | J89: Under of Warranty
A90: 89 | C90: 38D57AD9229A | D90: 2149688001202201148219 | E90: No boot | F90: U1,U1001,U801,U602,U1101 | G90: =VLOOKUP(D90,'[1]TOTAL SN RMA'!$A:$C,3,0) -> 44625 | H90: 20221214 | J90: Under of Warranty
A91: 90 | C91: 38D57AD9324F | D91: 2149688001202201144019 | E91: Ethernet LED no light - light dim | F91: J801 | G91: =VLOOKUP(D91,'[1]TOTAL SN RMA'!$A:$C,3,0) -> 44625 | H91: =VLOOKUP(D91,[3]Sheet1!$A:$E,5,0) -> 0 | J91: Under of Warranty
A92: 91 | C92: 38D57AD95469 | D92: 2149688001202201150003 | E92: No boot | F92: U1,U602,U801,U1001 | G92: =VLOOKUP(D92,'[1]TOTAL SN RMA'!$A:$C,3,0) -> 44665 | H92: 20221214 | J92: Under of Warranty
A93: 92 | C93: 38D57AD95EDE | D93: 2149688001202201158048 | E93: No boot | F93: U1,U1001,U801,U602,U1101 | G93: =VLOOKUP(D93,'[1]TOTAL SN RMA'!$A:$C,3,0) -> 44665 | H93: 20221214 | J93: Under of Warranty
A94: 93 | C94: 38D57AD9653D | D94: 2149688001202201157996 | E94: No Ping | F94: U801 | G94: =VLOOKUP(D94,'[1]TOTAL SN RMA'!$A:$C,3,0) -> 44665 | H94: =VLOOKUP(D94,[2]Sheet1!$A:$E,5,0) -> 0 | J94: Under of Warranty
A95: 94 | C95: 38D57AD979B9 | D95: 2149688001202201163609 | E95: Check HDMI video noise fail | F95: U1, U602 | G95: =VLOOKUP(D95,'[1]TOTAL SN RMA'!$A:$C,3,0) -> 44665 | H95: =VLOOKUP(D95,[2]Sheet1!$A:$E,5,0) -> 0 | J95: Under of Warranty
A96: 95 | C96: 38D57AD983D3 | D96: 2149688001202201166947 | E96: No boot | F96: U1,U602,U801,U1001 | G96: =VLOOKUP(D96,'[1]TOTAL SN RMA'!$A:$C,3,0) -> 44665 | H96: 20221214 | J96: Under of Warranty
A97: 96 | C97: 38D57AD9AD3C | D97: 2149688001202201180623 | E97: No boot | F97: U1,U602,U308 | G97: =VLOOKUP(D97,'[1]TOTAL SN RMA'!$A:$C,3,0) -> 44669 | H97: 20221214 | J97: Under of Warranty
A98: 97 | C98: 38D57ADA7302 | D98: 2149688001202201228339 | E98: Can't download Factory FW | F98: U505, U506 | G98: =VLOOKUP(D98,'[1]TOTAL SN RMA'!$A:$C,3,0) -> 44681 | H98: =VLOOKUP(D98,[2]Sheet1!$A:$E,5,0) -> 0 | J98: Under of Warranty
A99: 98 | C99: 38D57ADAB154 | D99: 2149688001202201245254 | E99: RCU fail | F99: U402 | G99: =VLOOKUP(D99,'[1]TOTAL SN RMA'!$A:$C,3,0) -> 44707 | H99: =VLOOKUP(D99,[2]Sheet1!$A:$E,5,0) -> 0 | J99: Under of Warranty
A100: 99 | C100: 38D57ADAE7A0 | D100: 2149688001202201255932 | E100: Can't download Factory FW | F100: U602 | G100: =VLOOKUP(D100,'[1]TOTAL SN RMA'!$A:$C,3,0) -> 44707 | H100: 20221214 | J100: Under of Warranty
A101: 100 | C101: 38D57ADB0D39 | D101: 2149688001202201266704 | E101: Ethernet LED no light - light dim | F101: J801 | G101: =VLOOKUP(D101,'[1]TOTAL SN RMA'!$A:$C,3,0) -> 44708 | H101: =VLOOKUP(D101,[2]Sheet1!$A:$E,5,0) -> 0 | J101: Under of Warranty
...

Sheet function issue(out of warranty)
A1: No | B1: SN | C1: MAC | D1: SHIPPING SN | E1: Phenomenon | F1: Fail symprom | G1: Repair location | H1: SHIPPING DATE | I1: Warranty 1 | J1: In 0506 list | K1: Warranty 2 | L1: Referance | M1: TW RD Failure Analysis | N1: FXC PE Inspection | O1: FXC PE Failure Analysis | P1: Root cause | Q1: Action
A2: 1 | C2: 1CBFC0F8DC46 | D2: 2149688001202005030175 | F2: Can't download Factory FW | G2: U1,U602 | H2: 06/10/2020 | I2: out of warranty
A3: 2 | C3: 1CBFC0F90DF8 | D3: 2149688001202005032852 | F3: Can't download Factory FW | G3: U1,U602 | H3: 06/10/2020 | I3: out of warranty
A4: 3 | C4: 1CBFC0F8DC52 | D4: 2149688001202005030136 | E4: SCRAP | F4: Can't download Factory FW | G4: U1,U602 | H4: 06/10/2020 | I4: out of warranty
A5: 4 | C5: 1CBFC0F90B6A | D5: 2149688001202005034948 | F5: Can't download Factory FW | G5: U1,U602 | H5: 06/10/2020 | I5: out of warranty
A6: 5 | C6: 1CBFC0F90679 | D6: 2149688001202005034663 | F6: Can't download Factory FW | G6: U1,U602 | H6: 06/10/2020 | I6: out of warranty
A7: 6 | C7: 1CBFC0F9087F | D7: 2149688001202005038726 | F7: Can't download Factory FW | G7: U1,U602 | H7: 06/10/2020 | I7: out of warranty
A8: 7 | C8: 28CDC4FF50A1 | D8: 2149688001202101087465 | F8: Can't download Factory FW | G8: U1,U602 | H8: 02/26/2021 | I8: out of warranty
A9: 8 | C9: 5C3A45339CA1 | D9: 2149688001202005038209 | F9: Can't download Factory FW (Stop at 7%) | G9: U602 | H9: 06/10/2020 | I9: out of warranty
A10: 9 | C10: D41B81FEA3EC | D10: 2149688001202101193623 | F10: Can't download Factory FW | G10: U1,U602 | H10: 04/29/2021 | I10: out of warranty
A11: 10 | C11: 1CBFC0F90006 | D11: 2149688001202005035920 | F11: Can't download Factory FW (Stop at 7%) | G11: U602 | H11: 06/10/2020 | I11: out of warranty
A12: 11 | C12: 1CBFC0F8F937 | D12: 2149688001202005038003 | F12: Can't download Factory FW (Stop at 7%) | G12: U602 | H12: 06/10/2020 | I12: out of warranty
A13: 12 | C13: D41B81FEBB3D | D13: 2149688001202101197839 | F13: Can't download Factory FW | G13: U1,U602 | H13: 04/28/2021 | I13: out of warranty
A14: 13 | C14: 1CBFC0F907BE | D14: 2149688001202005034821 | F14: HDMI function fail | G14: FIL1402 | H14: 06/10/2020 | I14: out of warranty
A15: 14 | C15: 1CBFC0F8FF85 | D15: 2149688001202005039016 | F15: No boot | G15: U1,U602 | H15: 06/12/2020 | I15: out of warranty
A16: 15 | C16: 5C3A45339230 | D16: 2149688001202005040549 | F16: Can't download Factory FW | G16: U1,U602 | H16: 06/12/2020 | I16: out of warranty
A17: 16 | C17: B4B5B6FF970B | D17: 2149688001202108109595 | E17: SCRAP | F17: No boot | G17: U1,U602,U801,U1001 | H17: 10/12/2021 | I17: out of warranty
A18: 17 | C18: B4B5B6FFA7CF | D18: 2149688001202108111765 | E18: SCRAP | F18: No boot | G18: U1,U602,U801,U1001 | H18: 10/29/2021 | I18: out of warranty
A19: 18 | C19: B4B5B6FDB1FD | D19: 2149688001202101280826 | F19: No boot | G19: U1,U602,U801,U1002 | H19: 08/23/2021 | I19: out of warranty
A20: 19 | C20: D41B81FEE8CF | D20: 2149688001202101205825 | F20: No boot | G20: U1,U602,U801,U1003 | H20: 04/28/2021 | I20: out of warranty
A21: 20 | C21: D41B81FE76C4 | D21: 2149688001202101174987 | F21: No boot | G21: U1,U602,U801,U1004 | H21: 03/29/2021 | I21: out of warranty
A22: 21 | C22: 5C3A4533AB6A | D22: 2149688001202005048476 | F22: Can't download Factory FW | G22: U1,U602 | H22: 06/12/2020 | I22: out of warranty
A23: 22 | C23: 5C3A45339EAD | D23: 2149688001202005047061 | F23: HDMI video noise fail | G23: U1,U602 | H23: 06/12/2020 | I23: out of warranty
A24: 23 | C24: D41B81FF0400 | D24: 2149688001202101221210 | F24: Can't download Factory FW | G24: U1,U602 | H24: 05/24/2021 | I24: out of warranty
A25: 24 | C25: 5C3A4533A936 | D25: 2149688001202005047745 | F25: Can't download Factory FW (Stop at 7%) | G25: U602 | H25: 06/12/2020 | I25: out of warranty
A26: 25 | C26: 5C3A45338B0A | D26: 2149688001202005042033 | E26: SCRAP | F26: No ping | G26: U801 | H26: 06/12/2020 | I26: out of warranty
A27: 26 | C27: B4B5B6FE14AD | D27: 2149688001202108012672 | F27: Can't download Factory FW | G27: U1,U602 | H27: 09/15/2021 | I27: out of warranty
A28: 27 | C28: 5C3A45339CAD | D28: 2149688001202005046026 | F28: Can't download Factory FW (Stop at 7%) | G28: U602 | H28: 06/12/2020 | I28: out of warranty
A29: 28 | C29: 5C3A4533A58F | D29: 2149688001202005044829 | F29: No ping | G29: T801 | H29: 06/12/2020 | I29: out of warranty
A30: 29 | C30: 5C3A45339118 | D30: 2149688001202005040902 | F30: No ping | G30: U801 | H30: 06/12/2020 | I30: out of warranty
A31: 30 | C31: B4B5B6FEF80B | D31: 2149688001202108068134 | F31: Can't download Factory FW | G31: U1,U602 | H31: 09/28/2021 | I31: out of warranty
A32: 31 | C32: 5C3A45338EC1 | D32: 2149688001202005041706 | E32: SCRAP | F32: HDMI function fail | G32: J1401 | H32: 06/12/2020 | I32: out of warranty
A33: 32 | C33: 28CDC40041C7 | D33: 2149688001202005070909 | F33: Can't download Factory FW | G33: U1,U602 | H33: 07/07/2020 | I33: out of warranty
A34: 33 | C34: 5C3A45B43604 | D34: 2149688001202005051666 | F34: Can't download Factory FW | G34: U1,U602 | H34: 07/07/2020 | I34: out of warranty
A35: 34 | C35: 5C3A45D534FF | D35: 2149688001202005055549 | F35: Can't download Factory FW | G35: U1,U602 | H35: 07/07/2020 | I35: out of warranty
A36: 35 | C36: 28CDC4FAFA11 | D36: 2149688001202101152699 | E36: SCRAP | F36: Can't download Factory FW | G36: U1,U602 | H36: 03/30/2021 | I36: out of warranty
A37: 36 | C37: 28CDC4FF95FE | D37: 2149688001202101140079 | F37: Can't download Factory FW | G37: U1,U602 | H37: 03/30/2021 | I37: out of warranty
A38: 37 | C38: 28CDC4FE96E3 | D38: 2149688001202101030638 | F38: Can't download Factory FW | G38: U1,U602 | H38: 01/19/2021 | I38: out of warranty
A39: 38 | C39: 5C3A45B4397B | D39: 2149688001202005050368 | F39: Can't download Factory FW | G39: U1,U602 | H39: 07/07/2020 | I39: out of warranty
A40: 39 | C40: 28CDC400453A | D40: 2149688001202005070486 | F40: Can't download Factory FW | G40: U1,U602 | H40: 07/07/2020 | I40: out of warranty
A41: 40 | C41: D41B81FE5EC4 | D41: 2149688001202101170569 | F41: Can't download Factory FW | G41: U1,U602 | H41: 03/29/2021 | I41: out of warranty
A42: 41 | C42: 5C3A45D5311A | D42: 2149688001202005056438 | F42: Can't download Factory FW | G42: U1,U602 | H42: 07/07/2020 | I42: out of warranty
A43: 42 | C43: 28CDC4FE1B02 | D43: 2149688001202101003577 | F43: Can't download Factory FW | G43: U1,U602 | H43: 01/11/2021 | I43: out of warranty
A44: 43 | C44: 28CDC4FF4592 | D44: 2149688001202101075709 | F44: Can't download Factory FW | G44: U1,U602 | H44: 02/09/2021 | I44: out of warranty
A45: 44 | C45: 5C3A45D53FCB | D45: 2149688001202005059885 | F45: Can't download Factory FW | G45: U1,U602 | H45: 07/07/2020 | I45: out of warranty
A46: 45 | C46: D41B81FE58AF | D46: 2149688001202101172223 | F46: Can't download Factory FW | G46: U1,U602 | H46: 03/29/2021 | I46: out of warranty
A47: 46 | C47: 5C3A45D540B9 | D47: 2149688001202005060054 | F47: Can't download Factory FW | G47: U1,U602 | H47: 07/07/2020 | I47: out of warranty
A48: 47 | C48: B4B5B6FDA9BD | D48: 2149688001202101282640 | F48: Can't download Factory FW | G48: U1,U602 | H48: 08/23/2021 | I48: out of warranty
... A54: 53 | C54: D41B81FE9F2A | D54: 2149688001202101184714 | F54: Can't download Factory FW | G54: U1,U602 | H54: 04/29/2021 | I54: out of warranty
A55: 54 | C55: 28CDC4004355 | D55: 2149688001202005069954 | E55: SCRAP | F55: Can't download Factory FW | G55: U1,U602 | H55: 07/07/2020 | I55: out of warranty
A56: 55 | C56: 5C3A45D532F4 | D56: 2149688001202005055347 | F56: Can't download Factory FW | G56: U1,U602 | H56: 07/07/2020 | I56: out of warranty
A57: 56 | C57: 28CDC4004FEC | D57: 2149688001202005069114 | F57: Can't download Factory FW | G57: U1,U602 | H57: 07/07/2020 | I57: out of warranty
A58: 57 | C58: 28CDC4FA3D6E | D58: 2149688001202101101105 | F58: Can't download Factory FW | G58: U1,U602 | H58: 02/26/2021 | I58: out of warranty
A59: 58 | C59: 28CDC4003DAC | D59: 2149688001202005071870 | F59: Can't download Factory FW | G59: U1,U602 | H59: 07/07/2020 | I59: out of warranty
A60: 59 | C60: 5C3A45D5471C | D60: 2149688001202005060631 | F60: Can't download Factory FW | G60: U1,U602 | H60: 07/07/2020 | I60: out of warranty
A61: 60 | C61: 5C3A45B449C0 | D61: 2149688001202005064677 | F61: Can't download Factory FW | G61: U1,U602 | H61: 07/07/2020 | I61: out of warranty
A62: 61 | C62: D41B81FF8384 | D62: 2149688001202101247785 | F62: Can't download Factory FW | G62: U1,U602 | H62: 06/09/2021 | I62: out of warranty
A63: 62 | C63: 4CD577FEAF29 | D63: 2149688001202108146642 | F63: Can't download Factory FW | G63: U1,U602 | H63: 11/20/2021 | I63: out of warranty
A64: 63 | C64: B4B5B6FF83EC | D64: 2149688001202108100903 | F64: Can't download Factory FW | G64: U1,U602 | H64: 10/12/2021 | I64: out of warranty
A65: 64 | C65: 28CDC4FEED2E | D65: 2149688001202101055223 | F65: Can't download Factory FW | G65: U1,U602 | H65: 01/26/2021 | I65: out of warranty
A66: 65 | C66: 5C3A45D52D95 | D66: 2149688001202005053502 | F66: Audio 4K function fail | G66: U1,U602 | H66: 07/07/2020 | I66: out of warranty
A67: 66 | C67: D41B81FFDBFD | D67: 2149688001202101273720 | F67: Can't download Factory FW | G67: U1,U602 | H67: 07/26/2021 | I67: out of warranty
... A79: 78 | C79: 28CDC4FAB1A3 | D79: 2149688001202101132727 | F79: Can't download Factory FW | G79: U1,U602 | H79: 03/19/2021 | I79: out of warranty
A80: 79 | C80: 5C3A45D5398C | D80: 2149688001202005054748 | E80: SCRAP | F80: No boot | G80: U305 | H80: 07/07/2020 | I80: out of warranty
A81: 80 | C81: B4B5B6FE3ACB | D81: 2149688001202108012493 | F81: Can't download Factory FW | G81: U1,U602 | H81: 09/15/2021 | I81: out of warranty
A82: 81 | C82: 5C3A45D53F57 | D82: 2149688001202005059819 | F82: Can't download Factory FW (Stop at 7%) | G82: U602 | H82: 07/07/2020 | I82: out of warranty
A83: 82 | C83: B4B5B6FFA555 | D83: 2149688001202108110422 | F83: Can't download Factory FW | G83: U1,U602 | H83: 10/29/2021 | I83: out of warranty
A84: 83 | C84: 5C3A45D54888 | D84: 2149688001202005057484 | F84: Can't download Factory FW (Stop at 7%) | G84: U602 | H84: 07/07/2020 | I84: out of warranty
A85: 84 | C85: 5C3A45D53DA8 | D85: 2149688001202005054105 | E85: SCRAP | F85: Can't download Factory FW (Stop at 7%) | G85: U602 | H85: 07/07/2020 | I85: out of warranty
A86: 85 | C86: 28CDC4004D2B | D86: 2149688001202005068835 | F86: Can't download Factory FW (Stop at 7%) | G86: U602 | H86: 07/07/2020 | I86: out of warranty
A87: 86 | C87: 5C3A45D54CEC | D87: 2149688001202005063106 | F87: No boot | G87: U308 | H87: 07/07/2020 | I87: out of warranty
A88: 87 | C88: 5C3A45D556E1 | D88: 2149688001202005060657 | F88: No ping | G88: U801 | H88: 07/07/2020 | I88: out of warranty
A89: 88 | C89: 28CDC4FAD684 | D89: 2149688001202101141943 | F89: Can't download Factory FW | G89: U1,U602 | H89: 03/30/2021 | I89: out of warranty
A90: 89 | C90: 5C3A45B442A4 | D90: 2149688001202005067042 | F90: No ping | G90: U801 | H90: 07/07/2020 | I90: out of warranty
A91: 90 | C91: 28CDC4FF573C | D91: 2149688001202101085092 | F91: No boot (Short 3.3V) | G91: U1,U602,U801,U1001 | H91: 02/26/2021 | I91: out of warranty
A92: 91 | C92: 38D57ADB10ED | D92: 2149688001202201265708 | F92: No boot (Short 3.3V) | G92: U1,U602,U801,U1001 | H92: 05/27/2022 | I92: out of warranty
A93: 92 | C93: 4CD577FFD11A | D93: 2149688001202201062982 | F93: No boot (Short 3.3V) | G93: U1,U602,U801 | H93: 01/07/2022 | I93: out of warranty
A94: 93 | C94: 38D57AD8E2B2 | D94: 2149688001202201127545 | F94: No boot (Short 3.3V,2.5V,1.2V) | G94: U1,U602,U503,U504,U505,U506 | H94: 02/26/2022 | I94: out of warranty
A95: 94 | C95: 38D57AD879BE | D95: 2149688001202201107173 | E95: SCRAP | F95: No boot (Short 3.3V,2.5V,1.2V) | G95: U1,U602,U503,U504,U505,U507 | H95: 02/14/2022 | I95: out of warranty
A96: 95 | C96: 38D57AD84355 | D96: 2149688001202201083643 | F96: No boot (Short 3.3V,2.5V,1.2V) | G96: U1,U602,U503,U504,U505,U508 | H96: 02/11/2022 | I96: out of warranty
A97: 96 | C97: 38D57ADA8B45 | D97: 2149688001202201239802 | F97: No boot (Short 3.3V,2.5V,1.2V) | G97: U1,U602,U503,U504,U505,U509 | H97: 05/26/2022 | I97: out of warranty
A98: 97 | C98: D41B81FED8B0 | D98: 2149688001202101201218 | F98: No boot | G98: U1,U602 | H98: 04/28/2021 | I98: out of warranty
A99: 98 | C99: 5C3A45B43A19 | D99: 2149688001202005050241 | F99: No ping | G99: T801 | H99: 07/07/2020 | I99: out of warranty
A100: 99 | C100: D41B81FF9E9D | D100: 2149688001202101261982 | F100: No boot | G100: U1,U602 | H100: 07/22/2021 | I100: out of warranty
A101: 100 | C101: 5C3A45B43C8B | D101: 2149688001202005050983 | F101: No boot | G101: C334 | H101: 07/07/2020 | I101: out of warranty
A102: 101 | C102: 5C3A45B439AB | D102: 2149688001202005050178 | F102: Ethernet LED no light | G102: U801 | H102: 07/07/2020 | I102: out of warranty
A103: 102 | C103: 5C3A45B442E3 | D103: 2149688001202005064966 | F103: No ping | G103: R806 | H103: 07/07/2020 | I103: out of warranty
A104: 103 | C104: 5C3A45D533BE | D104: 2149688001202005055631 | F104: Remote control receiver fail | G104: U402 | H104: 07/07/2020 | I104: out of warranty
A105: 104 | C105: 5C3A45B4455C | D105: 2149688001202005064979 | F105: HDMI function fail | G105: J1401 | H105: 07/07/2020 | I105: out of warranty
A106: 105 | C106: 4CD577FEEEB3 | D106: 2149688001202201002775 | F106: No boot | G106: U1,U602 | H106: 11/30/2021 | I106: out of warranty
A107: 106 | C107: 5C3A45D558EA | D107: 2149688001202005064614 | F107: No ping | G107: J801 | H107: 07/07/2020 | I107: out of warranty
... A126: 125 | C126: 28CDC400573D | D126: 2149688001202005078992 | F126: Can't download Factory FW | G126: U1,U602 | H126: 07/14/2020 | I126: out of warranty
A127: 126 | C127: 28CDC4FA318D | D127: 2149688001202101103779 | E127: SCRAP | F127: Can't download Factory FW | G127: U1,U602 | H127: 02/27/2021 | I127: out of warranty
A128: 127 | C128: 4CD577FF98AA | D128: 2149688001202201044260 | F128: Can't download Factory FW | G128: U1,U602 | H128: 12/13/2021 | I128: out of warranty
A129: 128 | C129: 4CD577FF198F | D129: 2149688001202201013661 | E129: SCRAP | F129: Can't download Factory FW | G129: U1,U602 | H129: 11/30/2021 | I129: out of warranty
A130: 129 | C130: 28CDC40977A3 | D130: 2149688001202005079897 | F130: Can't download Factory FW | G130: U1,U602 | H130: 07/14/2020 | I130: out of warranty
A131: 130 | C131: 28CDC4FF1F07 | D131: 2149688001202101070173 | F131: Can't download Factory FW | G131: U1,U602 | H131: 02/09/2021 | I131: out of warranty
A132: 131 | C132: 28CDC4099BDB | D132: 2149688001202005091517 | F132: Can't download Factory FW | G132: U1,U602 | H132: 07/14/2020 | I132: out of warranty
A133: 132 | C133: 28CDC400577B | D133: 2149688001202005078734 | E133: SCRAP | F133: Can't download Factory FW | G133: U1,U602 | H133: 07/14/2020 | I133: out of warranty
A134: 133 | C134: 28CDC4098D43 | D134: 2149688001202005085309 | F134: Can't download Factory FW | G134: U1,U602 | H134: 07/14/2020 | I134: out of warranty
...

Sheet 744-list 0506
A1: SERIAL_NUMBER | B1: MODEL_NAME | C1: SHIPPING_SN | D1: SHIPPING TIME | E1: FACTORY | F1: FUNCTION | G1: LOCATION | H1: SCRAP | I1: LIST 0506 | J1: WARRANTY
A2: 28CDC4004959 | B2: T99X171.00 | C2: 2149688001202005069630 | D2: 07/07/2020 | E2: BG | F2: No ping | G2: U801 | I2: under warranty
A3: 28CDC4FA3D69 | B3: T99X171.00 | C3: 2149688001202101101063 | D3: 02/26/2021 | E3: BG | I3: under warranty
A4: 28CDC4FA7CFB | B4: T99X171.00 | C4: 2149688001202101119552 | D4: 03/17/2021 | E4: BG | I4: under warranty
A5: 28CDC4FAC66C | B5: T99X171.00 | C5: 2149688001202101135375 | D5: 03/19/2021 | E5: BG | F5: Can't download Factory FW (Stop at 7%) | G5: U602 | I5: under warranty
A6: 28CDC4FAD123 | B6: T99X171.00 | C6: 2149688001202101140732 | D6: 03/29/2021 | E6: BG | F6: Can't download Factory FW | G6: U1,U602 | I6: under warranty
A7: 28CDC4FAECC8 | B7: T99X171.00 | C7: 2149688001202101143543 | D7: 03/29/2021 | E7: BG | I7: under warranty
A8: 28CDC4FC0C4E | B8: T99X171.00 | C8: 2149688001202005170218 | D8: 09/15/2020 | E8: BG | F8: No ping | G8: J801 | I8: under warranty
A9: 28CDC4FC3626 | B9: T99X171.00 | C9: 2149688001202005179624 | D9: 09/15/2020 | E9: BG | I9: under warranty
A10: 28CDC4FC3BB5 | B10: T99X171.00 | C10: 2149688001202005177704 | D10: 09/15/2020 | E10: BG | I10: under warranty
A11: 28CDC4FC5D20 | B11: T99X171.00 | C11: 2149688001202005186782 | D11: 09/16/2020 | E11: BG | I11: under warranty
A12: 28CDC4FC885D | B12: T99X171.00 | C12: 2149688001202009008892 | D12: 10/14/2020 | E12: BG | I12: under warranty
A13: 28CDC4FCAF77 | B13: T99X171.00 | C13: 2149688001202009020611 | D13: 10/26/2020 | E13: BG | I13: under warranty
A14: 28CDC4FCB351 | B14: T99X171.00 | C14: 2149688001202009025220 | D14: 10/26/2020 | E14: BG | I14: under warranty
A15: 28CDC4FCE08B | B15: T99X171.00 | C15: 2149688001202009033038 | D15: 11/05/2020 | E15: BG | F15: Can't download Factory FW | G15: U1,U602 | I15: under warranty
A16: 28CDC4FCE8CA | B16: T99X171.00 | C16: 2149688001202009034011 | D16: 11/05/2020 | E16: BG | I16: under warranty
A17: 28CDC4FD378A | B17: T99X171.00 | C17: 2149688001202009057548 | D17: 11/05/2020 | E17: BG | I17: under warranty
A18: 28CDC4FD8BC6 | B18: T99X171.00 | C18: 2149688001202009079942 | D18: 12/11/2020 | E18: BG | I18: under warranty
A19: 28CDC4FD9E2B | B19: T99X171.00 | C19: 2149688001202009082648 | D19: 12/17/2020 | E19: BG | I19: under warranty
A20: 28CDC4FE124A | B20: T99X171.00 | C20: 2149688001202101002620 | D20: 01/11/2021 | E20: BG | F20: Can't download Factory FW | G20: U1,U602 | I20: under warranty
A21: 28CDC4FE6B1F | B21: T99X171.00 | C21: 2149688001202101026287 | D21: 01/19/2021 | E21: BG | I21: under warranty
A22: 28CDC4FED1FF | B22: T99X171.00 | C22: 2149688001202101044613 | D22: 01/26/2021 | E22: BG | I22: under warranty
A23: 38D57AD810DA | B23: T99X171.00 | C23: 2149688001202201075630 | D23: 01/26/2022 | E23: BG | I23: under warranty
A24: 38D57AD87C74 | B24: T99X171.00 | C24: 2149688001202201097128 | D24: 02/14/2022 | E24: BG | I24: under warranty
A25: 38D57AD89965 | B25: T99X171.00 | C25: 2149688001202201101852 | D25: 02/14/2022 | E25: BG | I25: under warranty
A26: 38D57AD92306 | B26: T99X171.00 | C26: 2149688001202201147763 | D26: 03/05/2022 | E26: BG | I26: under warranty
A27: 4CD577FEA495 | B27: T99X171.00 | C27: 2149688001202108151082 | D27: 11/24/2021 | E27: BG | I27: under warranty
A28: 4CD577FEEB6C | B28: T99X171.00 | C28: 2149688001202201003417 | D28: 11/30/2021 | E28: BG | I28: under warranty
A29: D41B81FE7656 | B29: T99X171.00 | C29: 2149688001202101175021 | D29: 03/29/2021 | E29: BG | I29: under warranty
A30: D41B81FF7B3B | B30: T99X171.00 | C30: 2149688001202101244595 | D30: 05/24/2021 | E30: BG | F30: Can't download Factory FW (Stop at 7%) | G30: U602 | I30: under warranty
A31: D41B81FF80FB | B31: T99X171.00 | C31: 2149688001202101249466 | D31: 06/09/2021 | E31: BG | F31: Can't download Factory FW | G31: U1,U602 | I31: under warranty
A32: 1CBFC0F8F919 | B32: T99X171.00 | C32: 2149688001202005037058 | D32: 06/10/2020 | E32: BG | I32: under warranty
A33: 1CBFC0F8FA28 | B33: T99X171.00 | C33: 2149688001202005038951 | D33: 06/10/2020 | E33: BG | I33: under warranty
A34: 1CBFC0F8FD13 | B34: T99X171.00 | C34: 2149688001202005037718 | D34: 06/10/2020 | E34: BG | F34: Can't download Factory FW | G34: U1,U602 | I34: under warranty
A35: 1CBFC0F90C7A | B35: T99X171.00 | C35: 2149688001202005033867 | D35: 06/10/2020 | E35: BG | F35: No boot | G35: C313 | I35: under warranty
A36: 1CBFC0F917E0 | B36: T99X171.00 | C36: 2149688001202005032932 | D36: 06/10/2020 | E36: BG | I36: under warranty
A37: 1CBFC0F91B9E | B37: T99X171.00 | C37: 2149688001202005042784 | D37: 06/12/2020 | E37: BG | I37: under warranty
A38: 28CDC4003B44 | B38: T99X171.00 | C38: 2149688001202005073593 | D38: 07/14/2020 | E38: BG | I38: under warranty
A39: 28CDC4004000 | B39: T99X171.00 | C39: 2149688001202005072543 | D39: 07/07/2020 | E39: BG | I39: under warranty
A40: 28CDC4004E3B | B40: T99X171.00 | C40: 2149688001202005068052 | D40: 07/07/2020 | E40: BG | I40: under warranty
A41: 28CDC4097189 | B41: T99X171.00 | C41: 2149688001202005080610 | D41: 07/14/2020 | E41: BG | I41: under warranty
A42: 28CDC409A1B8 | B42: T99X171.00 | C42: 2149688001202005090559 | D42: 07/14/2020 | E42: BG | I42: under warranty
A43: 28CDC409B0B3 | B43: T99X171.00 | C43: 2149688001202005096460 | D43: 07/14/2020 | E43: BG | I43: under warranty
A44: 28CDC409B98F | B44: T99X171.00 | C44: 2149688001202005093856 | D44: 07/15/2020 | E44: BG | I44: under warranty
A45: 28CDC45CC912 | B45: T99X171.00 | C45: 2149688001202005100375 | D45: 07/29/2020 | E45: BG | I45: under warranty
A46: 28CDC45CCBA8 | B46: T99X171.00 | C46: 2149688001202005101310 | D46: 07/29/2020 | E46: BG | I46: under warranty
A47: 28CDC45CCD71 | B47: T99X171.00 | C47: 2149688001202005102215 | D47: 07/29/2020 | E47: BG | I47: under warranty
A48: 28CDC45CCEEB | B48: T99X171.00 | C48: 2149688001202005102204 | D48: 07/29/2020 | E48: BG | F48: Can't download Factory FW | G48: U1,U602 | I48: under warranty
A49: 28CDC45CDC79 | B49: T99X171.00 | C49: 2149688001202005105834 | D49: 07/29/2020 | E49: BG | I49: under warranty
A50: 28CDC4FA382A | B50: T99X171.00 | C50: 2149688001202101102084 | D50: 02/27/2021 | E50: BG | I50: under warranty
A51: 28CDC4FA3CA2 | B51: T99X171.00 | C51: 2149688001202101100981 | D51: 02/26/2021 | E51: BG | I51: under warranty
A52: 28CDC4FA3D57 | B52: T99X171.00 | C52: 2149688001202101102762 | D52: 02/27/2021 | E52: BG | I52: under warranty
A53: 28CDC4FA4014 | B53: T99X171.00 | C53: 2149688001202101100452 | D53: 02/27/2021 | E53: BG | I53: under warranty
A54: 28CDC4FA4059 | B54: T99X171.00 | C54: 2149688001202101101026 | D54: 02/26/2021 | E54: BG | I54: under warranty
A55: 28CDC4FA421A | B55: T99X171.00 | C55: 2149688001202101100154 | D55: 02/27/2021 | E55: BG | I55: under warranty
A56: 28CDC4FA473A | B56: T99X171.00 | C56: 2149688001202101107216 | D56: 02/27/2021 | E56: BG | I56: under warranty
A57: 28CDC4FA5C25 | B57: T99X171.00 | C57: 2149688001202101108771 | D57: 02/26/2021 | E57: BG | I57: under warranty
A58: 28CDC4FA6802 | B58: T99X171.00 | C58: 2149688001202101115492 | D58: 03/19/2021 | E58: BG | I58: under warranty
A59: 28CDC4FA70AA | B59: T99X171.00 | C59: 2149688001202101113520 | D59: 03/17/2021 | E59: BG | I59: under warranty
A60: 28CDC4FA88AC | B60: T99X171.00 | C60: 2149688001202101120001 | D60: 03/18/2021 | E60: BG | F60: Can't download Factory FW | G60: U1,U602 | I60: under warranty
A61: 28CDC4FA9BA1 | B61: T99X171.00 | C61: 2149688001202101124672 | D61: 03/19/2021 | E61: BG | F61: Can't download Factory FW | G61: U1,U602 | I61: under warranty
A62: 28CDC4FAA3C0 | B62: T99X171.00 | C62: 2149688001202101128757 | D62: 03/17/2021 | E62: BG | I62: under warranty
A63: 28CDC4FAB6C2 | B63: T99X171.00 | C63: 2149688001202101134558 | D63: 03/19/2021 | E63: BG | I63: under warranty
A64: 28CDC4FABFBF | B64: T99X171.00 | C64: 2149688001202101136932 | D64: 03/19/2021 | E64: BG | I64: under warranty
A65: 28CDC4FACACD | B65: T99X171.00 | C65: 2149688001202101134345 | D65: 03/19/2021 | E65: BG | I65: under warranty
A66: 28CDC4FADE44 | B66: T99X171.00 | C66: 2149688001202101147759 | D66: 03/29/2021 | E66: BG | I66: under warranty
A67: 28CDC4FAE4FF | B67: T99X171.00 | C67: 2149688001202101146811 | D67: 03/30/2021 | E67: BG | F67: Can't download Factory FW (Stop at 7%) | G67: U602 | I67: under warranty
A68: 28CDC4FAF20B | B68: T99X171.00 | C68: 2149688001202101142749 | D68: 03/29/2021 | E68: BG | F68: Can't download Factory FW (Stop at 7%) | G68: U602 | I68: under warranty
A69: 28CDC4FAF9E2 | B69: T99X171.00 | C69: 2149688001202101152533 | D69: 03/30/2021 | E69: BG | I69: under warranty
A70: 28CDC4FAFCB1 | B70: T99X171.00 | C70: 2149688001202101152034 | D70: 03/29/2021 | E70: BG | F70: No ping | G70: U801 | I70: under warranty
A71: 28CDC4FAFE0D | B71: T99X171.00 | C71: 2149688001202101153040 | D71: 03/29/2021 | E71: BG | I71: under warranty
A72: 28CDC4FB0945 | B72: T99X171.00 | C72: 2149688001202101158940 | D72: 03/30/2021 | E72: BG | F72: Can't download Factory FW (Stop at 7%) | G72: U602 | I72: under warranty
A73: 28CDC4FB2047 | B73: T99X171.00 | C73: 2149688001202005108066 | D73: 07/29/2020 | E73: BG | I73: under warranty
A74: 28CDC4FB2C80 | B74: T99X171.00 | C74: 2149688001202005112943 | D74: 07/29/2020 | E74: BG | I74: under warranty
A75: 28CDC4FB34B3 | B75: T99X171.00 | C75: 2149688001202005109320 | D75: 07/29/2020 | E75: BG | I75: under warranty
A76: 28CDC4FB3AE8 | B76: T99X171.00 | C76: 2149688001202005113593 | D76: 07/29/2020 | E76: BG | I76: under warranty
A77: 28CDC4FB449B | B77: T99X171.00 | C77: 2149688001202005114829 | D77: 07/29/2020 | E77: BG | I77: under warranty
A78: 28CDC4FB46E4 | B78: T99X171.00 | C78: 2149688001202005118044 | D78: 07/29/2020 | E78: BG | I78: under warranty
A79: 28CDC4FB5A60 | B79: T99X171.00 | C79: 2149688001202005123971 | D79: 08/04/2020 | E79: BG | I79: under warranty
A80: 28CDC4FB7AEF | B80: T99X171.00 | C80: 2149688001202005132162 | D80: 08/04/2020 | E80: BG | F80: Can't download Factory FW | G80: U1,U602 | I80: under warranty
A81: 28CDC4FB7E3B | B81: T99X171.00 | C81: 2149688001202005130840 | D81: 08/04/2020 | E81: BG | I81: under warranty
A82: 28CDC4FB8361 | B82: T99X171.00 | C82: 2149688001202005129906 | D82: 08/04/2020 | E82: BG | I82: under warranty
A83: 28CDC4FBB48E | B83: T99X171.00 | C83: 2149688001202005149316 | D83: 08/05/2020 | E83: BG | I83: under warranty
A84: 28CDC4FBF11F | B84: T99X171.00 | C84: 2149688001202005160884 | D84: 09/15/2020 | E84: BG | F84: No ping | G84: U801 | I84: under warranty
A85: 28CDC4FBF673 | B85: T99X171.00 | C85: 2149688001202005159505 | D85: 09/15/2020 | E85: BG | I85: under warranty
A86: 28CDC4FC0C1C | B86: T99X171.00 | C86: 2149688001202005177364 | D86: 09/15/2020 | E86: BG | I86: under warranty
A87: 28CDC4FC18D8 | B87: T99X171.00 | C87: 2149688001202005172812 | D87: 09/16/2020 | E87: BG | I87: under warranty
A88: 28CDC4FC1F9C | B88: T99X171.00 | C88: 2149688001202005175974 | D88: 09/15/2020 | E88: BG | I88: under warranty
A89: 28CDC4FC2A75 | B89: T99X171.00 | C89: 2149688001202005171526 | D89: 09/15/2020 | E89: BG | I89: under warranty
A90: 28CDC4FC3004 | B90: T99X171.00 | C90: 2149688001202005181067 | D90: 09/16/2020 | E90: BG | F90: Can't download Factory FW (Stop at 7%) | G90: U602 | I90: under warranty
A91: 28CDC4FC335C | B91: T99X171.00 | C91: 2149688001202005179855 | D91: 09/15/2020 | E91: BG | F91: Can't download Factory FW | G91: U1,U602 | I91: under warranty
A92: 28CDC4FC3F24 | B92: T99X171.00 | C92: 2149688001202005176311 | D92: 09/15/2020 | E92: BG | F92: No boot | G92: U1,U602 | I92: under warranty
A93: 28CDC4FC41CB | B93: T99X171.00 | C93: 2149688001202005185285 | D93: 09/16/2020 | E93: BG | F93: Can't download Factory FW | G93: U1,U602 | I93: under warranty
A94: 28CDC4FC4292 | B94: T99X171.00 | C94: 2149688001202005184861 | D94: 09/16/2020 | E94: BG | I94: under warranty
A95: 28CDC4FC4D97 | B95: T99X171.00 | C95: 2149688001202005181515 | D95: 09/16/2020 | E95: BG | I95: under warranty
A96: 28CDC4FC51D6 | B96: T99X171.00 | C96: 2149688001202005189860 | D96: 09/16/2020 | E96: BG | I96: under warranty
A97: 28CDC4FC58F2 | B97: T99X171.00 | C97: 2149688001202005187636 | D97: 09/16/2020 | E97: BG | I97: under warranty
A98: 28CDC4FC5A4D | B98: T99X171.00 | C98: 2149688001202005187256 | D98: 09/15/2020 | E98: BG | I98: under warranty
A99: 28CDC4FC60C1 | B99: T99X171.00 | C99: 2149688001202009002695 | D99: 10/14/2020 | E99: BG | I99: under warranty
A100: 28CDC4FC63DF | B100: T99X171.00 | C100: 2149688001202009002069 | D100: 10/14/2020 | E100: BG | I100: under warranty
...

Sheet 45-list 0506 (2)
A1: SERIAL_NUMBER | B1: MODEL_NAME | C1: SHIPPING_SN | D1: SHIPPING TIME | E1: FACTORY | F1: FUNCTION | G1: LOCATION | H1: SCRAP | I1: LIST 0506 | J1: WARRANTY
A2: B068E6C30F58 | B2: T99X171.00 | C2: 2149688001201904004238 | D2: 8/3/2019 | E2: BN | F2: No ping | G2: U1,U602 | I2: out of warranty
A3: ACD5648A6C98 | B3: T99X171.00 | C3: 2149688001201904010921 | D3: 8/30/2019 | E3: BN | F3: No boot (Short 3.3V) | G3: U1,U602,U1101,U1001 | I3: out of warranty
A4: ACD5648A7A4D | B4: T99X171.00 | C4: 2149688001201904014430 | D4: 9/11/2019 | E4: BN | F4: No boot | G4: U503 | I4: out of warranty
A5: ACD5648A9C5A | B5: T99X171.00 | C5: 2149688001201904023147 | D5: 9/16/2019 | E5: BN | F5: Can't download factory SW | G5: U1,U602 | I5: out of warranty
A6: ACD5648AA724 | B6: T99X171.00 | C6: 2149688001201904025909 | D6: 9/18/2019 | E6: BN | F6: No boot (Short 3.3V) | G6: U1,U602,U1101,U1001 | I6: out of warranty
A7: ACD5648AB054 | B7: T99X171.00 | C7: 2149688001201904028261 | D7: 9/26/2019 | E7: BN | F7: Check HDMI video noise fail | G7: U1,U602 | I7: out of warranty
A8: ACD5648AB625 | B8: T99X171.00 | C8: 2149688001201904029750 | D8: 9/26/2019 | E8: BN | F8: Can't download factory SW (stop at 7%) | G8: U602 | H8: Scrap | I8: out of warranty
A9: 4023432A4CF8 | B9: T99X171.00 | C9: 2149688001201904031430 | D9: 9/15/2019 | E9: BN | F9: No boot (Short 3.3V) | G9: U1,U602,U1101,U1001 | I9: out of warranty
A10: 4023432A540D | B10: T99X171.00 | C10: 2149688001201904033243 | D10: 9/15/2019 | E10: BN | F10: No ping | G10: J801 | I10: out of warranty
A11: 4023432A5D68 | B11: T99X171.00 | C11: 2149688001201904035638 | D11: 9/17/2019 | E11: BN | F11: No boot | G11: U308 | I11: out of warranty
A12: 4023432A8839 | B12: T99X171.00 | C12: 2149688001201904046599 | D12: 9/21/2019 | E12: BN | F12: Can't download factory SW | G12: U1,U602 | I12: out of warranty
A13: 4023432AA296 | B13: T99X171.00 | C13: 2149688001201904055478 | D13: 9/26/2019 | E13: BN | F13: Ethernet no light | G13: J801 | I13: out of warranty
A14: 40234355DB19 | B14: T99X171.00 | C14: 2149688001201908000037 | D14: 9/25/2019 | E14: BN | F14: No boot | G14: U308 | H14: Scrap | I14: out of warranty
A15: 40234355DE57 | B15: T99X171.00 | C15: 2149688001201908001747 | D15: 9/27/2019 | E15: BN | F15: No boot | G15: U302 | I15: out of warranty
A16: 4023438BA176 | B16: T99X171.00 | C16: 2149688001201908010346 | D16: 10/4/2019 | E16: BN | F16: Can't download factory SW | G16: U1,U602 | H16: Scrap | I16: out of warranty
A17: 4023438BB944 | B17: T99X171.00 | C17: 2149688001201908023966 | D17: 10/10/2019 | E17: BN | F17: No boot (Short 3.3V) | G17: U1,U602,U1101,U1001 | H17: Scrap | I17: out of warranty
A18: 4023438BC1AA | B18: T99X171.00 | C18: 2149688001201908016221 | D18: 10/7/2019 | E18: BN | F18: Can't download factory SW (stop at 7%) | G18: U602 | I18: out of warranty
A19: 4023438BC4E1 | B19: T99X171.00 | C19: 2149688001201908022923 | D19: 10/10/2019 | E19: BN | F19: No boot (Short 3.3V) | G19: U1,U602,U1101,U1001 | I19: out of warranty
A20: 402343CD3164 | B20: T99X171.00 | C20: 2149688001201908038241 | D20: 10/14/2019 | E20: BN | F20: Can't download factory SW (stop at 7%) | G20: U602 | I20: out of warranty
A21: 402343E07FA6 | B21: T99X171.00 | C21: 2149688001201908052434 | D21: 10/17/2019 | E21: BN | F21: Can't download factory SW | G21: U1,U602 | H21: Scrap | I21: out of warranty
A22: 402343E08223 | B22: T99X171.00 | C22: 2149688001201908051132 | D22: 10/17/2019 | E22: BN | F22: Can't download factory SW (stop at 7%) | G22: U602 | I22: out of warranty
A23: 405BD8247219 | B23: T99X171.00 | C23: 2149688001201908093354 | D23: 10/28/2019 | E23: BN | F23: No boot (Short 3.3V) | G23: U1,U602,U1101,U1001 | I23: out of warranty
A24: 405BD8248924 | B24: T99X171.00 | C24: 2149688001201908084667 | D24: 10/26/2019 | E24: BN | F24: Can't download factory SW (stop at 7%) | G24: U602 | I24: out of warranty
A25: 405BD824902C | B25: T99X171.00 | C25: 2149688001201908085580 | D25: 10/26/2019 | E25: BN | F25: No boot | G25: R327 | I25: out of warranty
A26: 405BD86D2228 | B26: T99X171.00 | C26: 2149688001201909005004 | D26: 10/31/2019 | E26: BN | F26: Can't download factory SW (stop at 7%) | G26: U602 | I26: out of warranty
A27: 405BD86D7899 | B27: T99X171.00 | C27: 2149688001201909028130 | D27: 11/8/2019 | E27: BN | F27: Can't download factory SW (stop at 7%) | G27: U602 | I27: out of warranty
A28: 405BD86D7D08 | B28: T99X171.00 | C28: 2149688001201909028568 | D28: 11/7/2019 | E28: BN | F28: Can't download factory SW | G28: U1,U602 | I28: out of warranty
A29: 405BD8AD40B6 | B29: T99X171.00 | C29: 2149688001201909043715 | D29: 11/11/2019 | E29: BN | F29: No ping | G29: J801 | I29: out of warranty
A30: 405BD8E2CE51 | B30: T99X171.00 | C30: 2149688001201909074767 | D30: 11/19/2019 | E30: BN | F30: No boot | G30: R329 | I30: out of warranty
A31: 405BD8E2D079 | B31: T99X171.00 | C31: 2149688001201909073424 | D31: 11/17/2019 | E31: BN | F31: No boot (Short 3.3V) | G31: U1,U602,U1101,U1001 | I31: out of warranty
A32: 4CEBBD1E1971 | B32: T99X171.00 | C32: 2149688001202001001269 | D32: 1/6/2020 | E32: BN | F32: No boot (Short 3.3V) | G32: U1,U602,U1101,U1001 | I32: out of warranty
A33: 4CEBBD9C007C | B33: T99X171.00 | C33: 2149688001202001022172 | D33: 1/16/2020 | E33: BN | F33: Can't download factory SW (stop at 7%) | G33: U602 | I33: out of warranty
... A43: E86F388A9DBA | B43: T99X171.00 | C43: 2149688001201909111195 | D43: 12/9/2019 | E43: BN | F43: Boot up fail | G43: U506 | I43: out of warranty
A44: E86F388AD68D | B44: T99X171.00 | C44: 2149688001201909121942 | D44: 12/12/2019 | E44: BN | F44: No ping | G44: U1,U602 | H44: Scrap | I44: out of warranty
A45: E86F388AE9EF | B45: T99X171.00 | C45: 2149688001201909132302 | D45: 12/19/2019 | E45: BN | F45: No ping | G45: U1,U602 | H45: Scrap | I45: out of warranty
A46: E86F388AF746 | B46: T99X171.00 | C46: 2149688001201909136228 | D46: 12/18/2019 | E46: BN | F46: Can't download factory SW | G46: U1,U602 | I46: out of warranty
