Workbook

Sheet SUMMARY
B2: Model | C2: Quantity | D2: SCRAP | E2: Total FA report | F2: Function Issue (Out of warranty) | G2: Function Issue (Under warranty) | H2: LED ISSUE | I2: PENDING
B3: T99X171 | C3: 3334 | D3: =119+8 -> 127 | E3: 147 | F3: 65 | G3: 82 | H3: =C3-D3-E3 -> 3060 | I3: 0

Sheet Total List
A1: SERIAL_NUMBER | B1: MODEL_NAME | C1: SHIPPING_SN | D1: SHIPPING TIME | E1: FACTORY | F1: FUNCTION | G1: LOCATION | H1: SCRAP | I1: WARRANTY 1 | J1: WARRANTY 2
A2: =+'FXC - 4th RMA FA'!C2 -> 1CBFC0F8FAD3 | B2: T99X171.00 | C2: =+'FXC - 4th RMA FA'!D2 -> 2149688001202005037279 | D2: =+'FXC - 4th RMA FA'!G2 -> 43992 | E2: BG | F2: =+'FXC - 4th RMA FA'!E2 -> No Ping | G2: =+'FXC - 4th RMA FA'!F2 -> U1, U602 | I2: =+'FXC - 4th RMA FA'!I2 -> Out of Warranty
A3: =+'FXC - 4th RMA FA'!C3 -> 1CBFC0F90282 | B3: T99X171.00 | C3: =+'FXC - 4th RMA FA'!D3 -> 2149688001202005035915 | D3: =+'FXC - 4th RMA FA'!G3 -> 43992 | E3: BG | F3: =+'FXC - 4th RMA FA'!E3 -> Ethernet LED no light - light dim | G3: =+'FXC - 4th RMA FA'!F3 -> J801 | I3: =+'FXC - 4th RMA FA'!I3 -> Out of Warranty
A4: =+'FXC - 4th RMA FA'!C4 -> 1CBFC0F91782 | B4: T99X171.00 | C4: =+'FXC - 4th RMA FA'!D4 -> 2149688001202005033845 | D4: =+'FXC - 4th RMA FA'!G4 -> 43992 | E4: BG | F4: =+'FXC - 4th RMA FA'!E4 -> Ethernet LED no light - light dim | G4: =+'FXC - 4th RMA FA'!F4 -> J801 | I4: =+'FXC - 4th RMA FA'!I4 -> Out of Warranty
A5: =+'FXC - 4th RMA FA'!C5 -> 1CBFC0F919D5 | B5: T99X171.00 | C5: =+'FXC - 4th RMA FA'!D5 -> 2149688001202005030370 | D5: =+'FXC - 4th RMA FA'!G5 -> 43992 | E5: BG | F5: =+'FXC - 4th RMA FA'!E5 -> Can't download Factory FW (Stop at 7%) | G5: =+'FXC - 4th RMA FA'!F5 -> U602 | I5: =+'FXC - 4th RMA FA'!I5 -> Out of Warranty
A6: =+'FXC - 4th RMA FA'!C6 -> 28CDC4003DD3 | B6: T99X171.00 | C6: =+'FXC - 4th RMA FA'!D6 -> 2149688001202005072232 | D6: =+'FXC - 4th RMA FA'!G6 -> 44019 | E6: BG | F6: =+'FXC - 4th RMA FA'!E6 -> Can't download Factory FW | G6: =+'FXC - 4th RMA FA'!F6 -> U1, U602 | I6: =+'FXC - 4th RMA FA'!I6 -> Out of Warranty
A7: =+'FXC - 4th RMA FA'!C7 -> 28CDC40043E4 | B7: T99X171.00 | C7: =+'FXC - 4th RMA FA'!D7 -> 2149688001202005070354 | D7: =+'FXC - 4th RMA FA'!G7 -> 44019 | E7: BG | F7: =+'FXC - 4th RMA FA'!E7 -> Ethernet LED no light - light dim | G7: =+'FXC - 4th RMA FA'!F7 -> J801 | I7: =+'FXC - 4th RMA FA'!I7 -> Out of Warranty
A8: =+'FXC - 4th RMA FA'!C8 -> 28CDC4005317 | B8: T99X171.00 | C8: =+'FXC - 4th RMA FA'!D8 -> 2149688001202005078638 | D8: =+'FXC - 4th RMA FA'!G8 -> 44026 | E8: BG | F8: =+'FXC - 4th RMA FA'!E8 -> No Ping | G8: =+'FXC - 4th RMA FA'!F8 -> U602, U1001 | I8: =+'FXC - 4th RMA FA'!I8 -> Out of Warranty
A9: =+'FXC - 4th RMA FA'!C9 -> 28CDC4005762 | B9: T99X171.00 | C9: =+'FXC - 4th RMA FA'!D9 -> 2149688001202005078579 | D9: =+'FXC - 4th RMA FA'!G9 -> 44026 | E9: BG | F9: =+'FXC - 4th RMA FA'!E9 -> Can't download Factory FW (Stop at 7%) | G9: =+'FXC - 4th RMA FA'!F9 -> U602 | I9: =+'FXC - 4th RMA FA'!I9 -> Out of Warranty
A10: =+'FXC - 4th RMA FA'!C10 -> 28CDC4005B85 | B10: T99X171.00 | C10: =+'FXC - 4th RMA FA'!D10 -> 2149688001202005076739 | D10: =+'FXC - 4th RMA FA'!G10 -> 44026 | E10: BG | F10: =+'FXC - 4th RMA FA'!E10 -> Boot up fail | G10: =+'FXC - 4th RMA FA'!F10 -> U302 | I10: =+'FXC - 4th RMA FA'!I10 -> Out of Warranty
A11: =+'FXC - 4th RMA FA'!C11 -> 28CDC4096FE5 | B11: T99X171.00 | C11: =+'FXC - 4th RMA FA'!D11 -> 2149688001202005099461 | D11: =+'FXC - 4th RMA FA'!G11 -> 44026 | E11: BG | F11: =+'FXC - 4th RMA FA'!E11 -> Ethernet LED no light - light dim | G11: =+'FXC - 4th RMA FA'!F11 -> J801 | I11: =+'FXC - 4th RMA FA'!I11 -> Out of Warranty
A12: =+'FXC - 4th RMA FA'!C12 -> 28CDC4097371 | B12: T99X171.00 | C12: =+'FXC - 4th RMA FA'!D12 -> 2149688001202005099585 | D12: =+'FXC - 4th RMA FA'!G12 -> 07/14/2020 | E12: BG | F12: =+'FXC - 4th RMA FA'!E12 -> LED defect | G12: =+'FXC - 4th RMA FA'!F12 -> Q1002 | I12: =+'FXC - 4th RMA FA'!I12 -> Out of Warranty
A13: =+'FXC - 4th RMA FA'!C13 -> 28CDC4097647 | B13: T99X171.00 | C13: =+'FXC - 4th RMA FA'!D13 -> 2149688001202005081257 | D13: =+'FXC - 4th RMA FA'!G13 -> 44027 | E13: BG | F13: =+'FXC - 4th RMA FA'!E13 -> Can't download Factory FW | G13: =+'FXC - 4th RMA FA'!F13 -> U1, U602 | I13: =+'FXC - 4th RMA FA'!I13 -> Out of Warranty
... A20: =+'FXC - 4th RMA FA'!C20 -> 28CDC45CDDC2 | B20: T99X171.00 | C20: =+'FXC - 4th RMA FA'!D20 -> 2149688001202005103145 | D20: =+'FXC - 4th RMA FA'!G20 -> 44041 | E20: BG | F20: =+'FXC - 4th RMA FA'!E20 -> Lan port link speed check failure ( link speed=100Mbps lower than spec=1Gbps ) | G20: =+'FXC - 4th RMA FA'!F20 -> U801 | I20: =+'FXC - 4th RMA FA'!I20 -> Out of Warranty
A21: =+'FXC - 4th RMA FA'!C21 -> 28CDC4FA9742 | B21: T99X171.00 | C21: =+'FXC - 4th RMA FA'!D21 -> 2149688001202101126802 | D21: =+'FXC - 4th RMA FA'!G21 -> 44272 | E21: BG | F21: =+'FXC - 4th RMA FA'!E21 -> No Ping | G21: =+'FXC - 4th RMA FA'!F21 -> U1, U602 | J21: =+'FXC - 4th RMA FA'!J21 -> Under of Warranty
A22: =+'FXC - 4th RMA FA'!C22 -> 28CDC4FAA186 | B22: T99X171.00 | C22: =+'FXC - 4th RMA FA'!D22 -> 2149688001202101129134 | D22: =+'FXC - 4th RMA FA'!G22 -> 44272 | E22: BG | F22: =+'FXC - 4th RMA FA'!E22 -> Ethernet LED no light - light dim | G22: =+'FXC - 4th RMA FA'!F22 -> J801 | J22: =+'FXC - 4th RMA FA'!J22 -> Under of Warranty
A23: =+'FXC - 4th RMA FA'!C23 -> 28CDC4FAA6E7 | B23: T99X171.00 | C23: =+'FXC - 4th RMA FA'!D23 -> 2149688001202101132568 | D23: =+'FXC - 4th RMA FA'!G23 -> 44274 | E23: BG | F23: =+'FXC - 4th RMA FA'!E23 -> Ethernet LED no light - light dim | G23: =+'FXC - 4th RMA FA'!F23 -> J801 | J23: =+'FXC - 4th RMA FA'!J23 -> Under of Warranty
A24: =+'FXC - 4th RMA FA'!C24 -> 28CDC4FAA83E | B24: T99X171.00 | C24: =+'FXC - 4th RMA FA'!D24 -> 2149688001202101130489 | D24: =+'FXC - 4th RMA FA'!G24 -> 44272 | E24: BG | F24: =+'FXC - 4th RMA FA'!E24 -> Ethernet LED no light - light dim | G24: =+'FXC - 4th RMA FA'!F24 -> J801 | J24: =+'FXC - 4th RMA FA'!J24 -> Under of Warranty
A25: =+'FXC - 4th RMA FA'!C25 -> 28CDC4FAD344 | B25: T99X171.00 | C25: =+'FXC - 4th RMA FA'!D25 -> 2149688001202101144986 | D25: =+'FXC - 4th RMA FA'!G25 -> 44285 | E25: BG | F25: =+'FXC - 4th RMA FA'!E25 -> Ethernet LED no light - light dim | G25: =+'FXC - 4th RMA FA'!F25 -> J801 | J25: =+'FXC - 4th RMA FA'!J25 -> Under of Warranty
A26: =+'FXC - 4th RMA FA'!C26 -> 28CDC4FB0B45 | B26: T99X171.00 | C26: =+'FXC - 4th RMA FA'!D26 -> 2149688001202101158452 | D26: =+'FXC - 4th RMA FA'!G26 -> 44285 | E26: BG | F26: =+'FXC - 4th RMA FA'!E26 -> Can't download Factory FW (Stop at 7%) | G26: =+'FXC - 4th RMA FA'!F26 -> U602 | J26: =+'FXC - 4th RMA FA'!J26 -> Under of Warranty
A27: =+'FXC - 4th RMA FA'!C27 -> 28CDC4FB205E | B27: T99X171.00 | C27: =+'FXC - 4th RMA FA'!D27 -> 2149688001202005107967 | D27: =+'FXC - 4th RMA FA'!G27 -> 44041 | E27: BG | F27: =+'FXC - 4th RMA FA'!E27 -> Lan port link speed check failure ( link speed=100Mbps lower than spec=1Gbps ) | G27: =+'FXC - 4th RMA FA'!F27 -> U801 | I27: =+'FXC - 4th RMA FA'!I27 -> Out of Warranty
A28: =+'FXC - 4th RMA FA'!C28 -> 28CDC4FB2282 | B28: T99X171.00 | C28: =+'FXC - 4th RMA FA'!D28 -> 2149688001202005108899 | D28: =+'FXC - 4th RMA FA'!G28 -> 44041 | E28: BG | F28: =+'FXC - 4th RMA FA'!E28 -> Lan port link speed check failure ( link speed=100Mbps lower than spec=1Gbps ) | G28: =+'FXC - 4th RMA FA'!F28 -> U801 | I28: =+'FXC - 4th RMA FA'!I28 -> Out of Warranty
A29: =+'FXC - 4th RMA FA'!C29 -> 28CDC4FB3CD7 | B29: T99X171.00 | C29: =+'FXC - 4th RMA FA'!D29 -> 2149688001202005113569 | D29: =+'FXC - 4th RMA FA'!G29 -> 44041 | E29: BG | F29: =+'FXC - 4th RMA FA'!E29 -> Can't download Factory FW (Stop at 7%) | G29: =+'FXC - 4th RMA FA'!F29 -> U602 | I29: =+'FXC - 4th RMA FA'!I29 -> Out of Warranty
A30: =+'FXC - 4th RMA FA'!C30 -> 28CDC4FB414D | B30: T99X171.00 | C30: =+'FXC - 4th RMA FA'!D30 -> 2149688001202005115826 | D30: =+'FXC - 4th RMA FA'!G30 -> 44041 | E30: BG | F30: =+'FXC - 4th RMA FA'!E30 -> Can't download Factory FW | G30: =+'FXC - 4th RMA FA'!F30 -> U1, U602 | I30: =+'FXC - 4th RMA FA'!I30 -> Out of Warranty
A31: =+'FXC - 4th RMA FA'!C31 -> 28CDC4FB429D | B31: T99X171.00 | C31: =+'FXC - 4th RMA FA'!D31 -> 2149688001202005126481 | D31: =+'FXC - 4th RMA FA'!G31 -> 44048 | E31: BG | F31: =+'FXC - 4th RMA FA'!E31 -> audio function fail | G31: =+'FXC - 4th RMA FA'!F31 -> U1, U1101 | I31: =+'FXC - 4th RMA FA'!I31 -> Out of Warranty
A32: =+'FXC - 4th RMA FA'!C32 -> 28CDC4FB4321 | B32: T99X171.00 | C32: =+'FXC - 4th RMA FA'!D32 -> 2149688001202005114964 | D32: =+'FXC - 4th RMA FA'!G32 -> 44041 | E32: BG | F32: =+'FXC - 4th RMA FA'!E32 -> Can't download Factory FW (Stop at 7%) | G32: =+'FXC - 4th RMA FA'!F32 -> U602 | I32: =+'FXC - 4th RMA FA'!I32 -> Out of Warranty
A33: =+'FXC - 4th RMA FA'!C33 -> 28CDC4FB4D3F | B33: T99X171.00 | C33: =+'FXC - 4th RMA FA'!D33 -> 2149688001202005126178 | D33: =+'FXC - 4th RMA FA'!G33 -> 44047 | E33: BG | F33: =+'FXC - 4th RMA FA'!E33 -> Can't download Factory FW | G33: =+'FXC - 4th RMA FA'!F33 -> U1, U602 | I33: =+'FXC - 4th RMA FA'!I33 -> Out of Warranty
A34: =+'FXC - 4th RMA FA'!C34 -> 28CDC4FB531F | B34: T99X171.00 | C34: =+'FXC - 4th RMA FA'!D34 -> 2149688001202005120071 | D34: =+'FXC - 4th RMA FA'!G34 -> 44048 | E34: BG | F34: =+'FXC - 4th RMA FA'!E34 -> Can't download Factory FW | G34: =+'FXC - 4th RMA FA'!F34 -> U1, U602 | I34: =+'FXC - 4th RMA FA'!I34 -> Out of Warranty
A35: =+'FXC - 4th RMA FA'!C35 -> 28CDC4FB5C14 | B35: T99X171.00 | C35: =+'FXC - 4th RMA FA'!D35 -> 2149688001202005123729 | D35: =+'FXC - 4th RMA FA'!G35 -> 44047 | E35: BG | F35: =+'FXC - 4th RMA FA'!E35 -> Can't download Factory FW (Stop at 7%) | G35: =+'FXC - 4th RMA FA'!F35 -> U602 | I35: =+'FXC - 4th RMA FA'!I35 -> Out of Warranty
A36: =+'FXC - 4th RMA FA'!C36 -> 28CDC4FB63BA | B36: T99X171.00 | C36: =+'FXC - 4th RMA FA'!D36 -> 2149688001202005126208 | D36: =+'FXC - 4th RMA FA'!G36 -> 44047 | E36: BG | F36: =+'FXC - 4th RMA FA'!E36 -> Ethernet LED no light - light dim | G36: =+'FXC - 4th RMA FA'!F36 -> J801 | I36: =+'FXC - 4th RMA FA'!I36 -> Out of Warranty
A37: =+'FXC - 4th RMA FA'!C37 -> 28CDC4FB6B2F | B37: T99X171.00 | C37: =+'FXC - 4th RMA FA'!D37 -> 2149688001202005138674 | D37: =+'FXC - 4th RMA FA'!G37 -> 44047 | E37: BG | F37: =+'FXC - 4th RMA FA'!E37 -> Can't download Factory FW (Stop at 7%) | G37: =+'FXC - 4th RMA FA'!F37 -> U602 | I37: =+'FXC - 4th RMA FA'!I37 -> Out of Warranty
A38: =+'FXC - 4th RMA FA'!C38 -> 28CDC4FB6D90 | B38: T99X171.00 | C38: =+'FXC - 4th RMA FA'!D38 -> 2149688001202005141021 | D38: =+'FXC - 4th RMA FA'!G38 -> 44047 | E38: BG | F38: =+'FXC - 4th RMA FA'!E38 -> No Ping | G38: =+'FXC - 4th RMA FA'!F38 -> U1, U602 | I38: =+'FXC - 4th RMA FA'!I38 -> Out of Warranty
... A65: =+'FXC - 4th RMA FA'!C65 -> 28CDC4FD0CB7 | B65: T99X171.00 | C65: =+'FXC - 4th RMA FA'!D65 -> 2149688001202009042781 | D65: =+'FXC - 4th RMA FA'!G65 -> 44140 | E65: BG | F65: =+'FXC - 4th RMA FA'!E65 -> Audio 4K function fail | G65: =+'FXC - 4th RMA FA'!F65 -> U1, U602 | I65: =+'FXC - 4th RMA FA'!I65 -> Out of Warranty
A66: =+'FXC - 4th RMA FA'!C66 -> 28CDC4FDB5F2 | B66: T99X171.00 | C66: =+'FXC - 4th RMA FA'!D66 -> 2149688001202009084938 | D66: =+'FXC - 4th RMA FA'!G66 -> 44181 | E66: BG | F66: =+'FXC - 4th RMA FA'!E66 -> Can't download Factory FW | G66: =+'FXC - 4th RMA FA'!F66 -> U1,U602 | J66: =+'FXC - 4th RMA FA'!J66 -> Under of Warranty
A67: =+'FXC - 4th RMA FA'!C67 -> 28CDC4FDD055 | B67: T99X171.00 | C67: =+'FXC - 4th RMA FA'!D67 -> 2149688001202009092416 | D67: =+'FXC - 4th RMA FA'!G67 -> 44181 | E67: BG | F67: =+'FXC - 4th RMA FA'!E67 -> Ethernet LED no light - light dim | G67: =+'FXC - 4th RMA FA'!F67 -> J801 | J67: =+'FXC - 4th RMA FA'!J67 -> Under of Warranty
A68: =+'FXC - 4th RMA FA'!C68 -> 28CDC4FDE5D1 | B68: T99X171.00 | C68: =+'FXC - 4th RMA FA'!D68 -> 2149688001202009094794 | D68: =+'FXC - 4th RMA FA'!G68 -> 44182 | E68: BG | F68: =+'FXC - 4th RMA FA'!E68 -> Boot up fail | G68: =+'FXC - 4th RMA FA'!F68 -> U504 | J68: =+'FXC - 4th RMA FA'!J68 -> Under of Warranty
A69: =+'FXC - 4th RMA FA'!C69 -> 28CDC4FDF252 | B69: T99X171.00 | C69: =+'FXC - 4th RMA FA'!D69 -> 2149688001202009109074 | D69: =+'FXC - 4th RMA FA'!G69 -> 44183 | E69: BG | F69: =+'FXC - 4th RMA FA'!E69 -> Check HDMI video noise fail | G69: =+'FXC - 4th RMA FA'!F69 -> U1, U602 | J69: =+'FXC - 4th RMA FA'!J69 -> Under of Warranty
A70: =+'FXC - 4th RMA FA'!C70 -> 28CDC4FE1677 | B70: T99X171.00 | C70: =+'FXC - 4th RMA FA'!D70 -> 2149688001202101000077 | D70: =+'FXC - 4th RMA FA'!G70 -> 44207 | E70: BG | F70: =+'FXC - 4th RMA FA'!E70 -> HDMI function test fail | G70: =+'FXC - 4th RMA FA'!F70 -> J1401 | J70: =+'FXC - 4th RMA FA'!J70 -> Under of Warranty
A71: =+'FXC - 4th RMA FA'!C71 -> 28CDC4FE1C8B | B71: T99X171.00 | C71: =+'FXC - 4th RMA FA'!D71 -> 2149688001202101004612 | D71: =+'FXC - 4th RMA FA'!G71 -> 44207 | E71: BG | F71: =+'FXC - 4th RMA FA'!E71 -> Can't download Factory FW (Stop at 7%) | G71: =+'FXC - 4th RMA FA'!F71 -> U602 | J71: =+'FXC - 4th RMA FA'!J71 -> Under of Warranty
A72: =+'FXC - 4th RMA FA'!C72 -> 28CDC4FE1CFB | B72: T99X171.00 | C72: =+'FXC - 4th RMA FA'!D72 -> 2149688001202101002570 | D72: =+'FXC - 4th RMA FA'!G72 -> 44207 | E72: BG | F72: =+'FXC - 4th RMA FA'!E72 -> Can't download Factory FW (Stop at 7%) | G72: =+'FXC - 4th RMA FA'!F72 -> U602 | J72: =+'FXC - 4th RMA FA'!J72 -> Under of Warranty
...

Sheet FXC - 4th RMA FA
A1: No | B1: SN | C1: MAC | D1: SHIPPING SN | E1: Fail symprom | F1: Repair location | G1: SHIPPING DATE | H1: Return Date | I1: Warranty 1 | J1: Warranty 2 | K1: Referance | L1: TW RD Failure Analysis | M1: FXC PE Inspection | N1: FXC PE Failure Analysis | O1: Root cause | P1: Action
A2: 1 | C2: 1CBFC0F8FAD3 | D2: 2149688001202005037279 | E2: No Ping | F2: U1, U602 | G2: =VLOOKUP(D2,'[1]TOTAL SN RMA'!$A:$C,3,0) -> 43992 | H2: =VLOOKUP(D2,[2]Sheet1!$A:$E,5,0) -> 0 | I2: Out of Warranty
A3: 2 | C3: 1CBFC0F90282 | D3: 2149688001202005035915 | E3: Ethernet LED no light - light dim | F3: J801 | G3: =VLOOKUP(D3,'[1]TOTAL SN RMA'!$A:$C,3,0) -> 43992 | H3: =VLOOKUP(D3,[2]Sheet1!$A:$E,5,0) -> 0 | I3: Out of Warranty
A4: 3 | C4: 1CBFC0F91782 | D4: 2149688001202005033845 | E4: Ethernet LED no light - light dim | F4: J801 | G4: =VLOOKUP(D4,'[1]TOTAL SN RMA'!$A:$C,3,0) -> 43992 | H4: =VLOOKUP(D4,[2]Sheet1!$A:$E,5,0) -> 0 | I4: Out of Warranty
A5: 4 | C5: 1CBFC0F919D5 | D5: 2149688001202005030370 | E5: Can't download Factory FW (Stop at 7%) | F5: U602 | G5: =VLOOKUP(D5,'[1]TOTAL SN RMA'!$A:$C,3,0) -> 43992 | H5: =VLOOKUP(D5,[2]Sheet1!$A:$E,5,0) -> 0 | I5: Out of Warranty
A6: 5 | C6: 28CDC4003DD3 | D6: 2149688001202005072232 | E6: Can't download Factory FW | F6: U1, U602 | G6: =VLOOKUP(D6,'[1]TOTAL SN RMA'!$A:$C,3,0) -> 44019 | H6: =VLOOKUP(D6,[2]Sheet1!$A:$E,5,0) -> 0 | I6: Out of Warranty
A7: 6 | C7: 28CDC40043E4 | D7: 2149688001202005070354 | E7: Ethernet LED no light - light dim | F7: J801 | G7: =VLOOKUP(D7,'[1]TOTAL SN RMA'!$A:$C,3,0) -> 44019 | H7: =VLOOKUP(D7,[2]Sheet1!$A:$E,5,0) -> 0 | I7: Out of Warranty
A8: 7 | C8: 28CDC4005317 | D8: 2149688001202005078638 | E8: No Ping | F8: U602, U1001 | G8: =VLOOKUP(D8,'[1]TOTAL SN RMA'!$A:$C,3,0) -> 44026 | H8: =VLOOKUP(D8,[3]Sheet1!$A:$E,5,0) -> 0 | I8: Out of Warranty
A9: 8 | C9: 28CDC4005762 | D9: 2149688001202005078579 | E9: Can't download Factory FW (Stop at 7%) | F9: U602 | G9: =VLOOKUP(D9,'[1]TOTAL SN RMA'!$A:$C,3,0) -> 44026 | H9: =VLOOKUP(D9,[2]Sheet1!$A:$E,5,0) -> 0 | I9: Out of Warranty
A10: 9 | C10: 28CDC4005B85 | D10: 2149688001202005076739 | E10: Boot up fail | F10: U302 | G10: =VLOOKUP(D10,'[1]TOTAL SN RMA'!$A:$C,3,0) -> 44026 | H10: =VLOOKUP(D10,[2]Sheet1!$A:$E,5,0) -> 0 | I10: Out of Warranty
A11: 10 | C11: 28CDC4096FE5 | D11: 2149688001202005099461 | E11: Ethernet LED no light - light dim | F11: J801 | G11: =VLOOKUP(D11,'[1]TOTAL SN RMA'!$A:$C,3,0) -> 44026 | H11: =VLOOKUP(D11,[2]Sheet1!$A:$E,5,0) -> 0 | I11: Out of Warranty
A12: 11 | C12: 28CDC4097371 | D12: 2149688001202005099585 | E12: LED defect | F12: Q1002 | G12: =VLOOKUP(D12,'[1]TOTAL SN RMA'!$A:$C,3,0) -> 07/14/2020 | H12: 20221214 | I12: Out of Warranty
A13: 12 | C13: 28CDC4097647 | D13: 2149688001202005081257 | E13: Can't download Factory FW | F13: U1, U602 | G13: =VLOOKUP(D13,'[1]TOTAL SN RMA'!$A:$C,3,0) -> 44027 | H13: =VLOOKUP(D13,[2]Sheet1!$A:$E,5,0) -> 0 | I13: Out of Warranty
A14: 13 | C14: 28CDC4097710 | D14: 2149688001202005080961 | E14: Ethernet LED no light - light dim | F14: J801 | G14: =VLOOKUP(D14,'[1]TOTAL SN RMA'!$A:$C,3,0) -> 44027 | H14: =VLOOKUP(D14,[2]Sheet1!$A:$E,5,0) -> 0 | I14: Out of Warranty
A15: 14 | C15: 28CDC40977B4 | D15: 2149688001202005079914 | E15: Boot up fail | F15: U308 | G15: =VLOOKUP(D15,'[1]TOTAL SN RMA'!$A:$C,3,0) -> 44026 | H15: =VLOOKUP(D15,[3]Sheet1!$A:$E,5,0) -> 0 | I15: Out of Warranty
A16: 15 | C16: 28CDC4098050 | D16: 2149688001202005081929 | E16: Ethernet LED no light - light dim | F16: J801 | G16: =VLOOKUP(D16,'[1]TOTAL SN RMA'!$A:$C,3,0) -> 44026 | H16: =VLOOKUP(D16,[2]Sheet1!$A:$E,5,0) -> 0 | I16: Out of Warranty
A17: 16 | C17: 28CDC4099E33 | D17: 2149688001202005086463 | E17: Audio 4K function fail | F17: U1, U602 | G17: =VLOOKUP(D17,'[1]TOTAL SN RMA'!$A:$C,3,0) -> 44026 | H17: =VLOOKUP(D17,[2]Sheet1!$A:$E,5,0) -> 0 | I17: Out of Warranty
A18: 17 | C18: 28CDC409A19A | D18: 2149688001202005091949 | E18: HDMI function test fail | F18: FIL1402 | G18: =VLOOKUP(D18,'[1]TOTAL SN RMA'!$A:$C,3,0) -> 44026 | H18: 20221214 | I18: Out of Warranty
A19: 18 | C19: 28CDC409A22E | D19: 2149688001202005091491 | E19: Ethernet LED no light - light dim | F19: J801 | G19: =VLOOKUP(D19,'[1]TOTAL SN RMA'!$A:$C,3,0) -> 44026 | H19: 20221214 | I19: Out of Warranty
A20: 19 | C20: 28CDC45CDDC2 | D20: 2149688001202005103145 | E20: Lan port link speed check failure ( link speed=100Mbps lower than spec=1Gbps ) | F20: U801 | G20: =VLOOKUP(D20,'[1]TOTAL SN RMA'!$A:$C,3,0) -> 44041 | H20: =VLOOKUP(D20,[3]Sheet1!$A:$E,5,0) -> 0 | I20: Out of Warranty
A21: 20 | C21: 28CDC4FA9742 | D21: 2149688001202101126802 | E21: No Ping | F21: U1, U602 | G21: =VLOOKUP(D21,'[1]TOTAL SN RMA'!$A:$C,3,0) -> 44272 | H21: 20221214 | J21: Under of Warranty
A22: 21 | C22: 28CDC4FAA186 | D22: 2149688001202101129134 | E22: Ethernet LED no light - light dim | F22: J801 | G22: =VLOOKUP(D22,'[1]TOTAL SN RMA'!$A:$C,3,0) -> 44272 | H22: =VLOOKUP(D22,[2]Sheet1!$A:$E,5,0) -> 0 | J22: Under of Warranty
A23: 22 | C23: 28CDC4FAA6E7 | D23: 2149688001202101132568 | E23: Ethernet LED no light - light dim | F23: J801 | G23: =VLOOKUP(D23,'[1]TOTAL SN RMA'!$A:$C,3,0) -> 44274 | H23: =VLOOKUP(D23,[3]Sheet1!$A:$E,5,0) -> 0 | J23: Under of Warranty
A24: 23 | C24: 28CDC4FAA83E | D24: 2149688001202101130489 | E24: Ethernet LED no light - light dim | F24: J801 | G24: =VLOOKUP(D24,'[1]TOTAL SN RMA'!$A:$C,3,0) -> 44272 | H24: =VLOOKUP(D24,[2]Sheet1!$A:$E,5,0) -> 0 | J24: Under of Warranty
A25: 24 | C25: 28CDC4FAD344 | D25: 2149688001202101144986 | E25: Ethernet LED no light - light dim | F25: J801 | G25: =VLOOKUP(D25,'[1]TOTAL SN RMA'!$A:$C,3,0) -> 44285 | H25: =VLOOKUP(D25,[2]Sheet1!$A:$E,5,0) -> 0 | J25: Under of Warranty
A26: 25 | C26: 28CDC4FB0B45 | D26: 2149688001202101158452 | E26: Can't download Factory FW (Stop at 7%) | F26: U602 | G26: =VLOOKUP(D26,'[1]TOTAL SN RMA'!$A:$C,3,0) -> 44285 | H26: =VLOOKUP(D26,[2]Sheet1!$A:$E,5,0) -> 0 | J26: Under of Warranty
A27: 26 | C27: 28CDC4FB205E | D27: 2149688001202005107967 | E27: Lan port link speed check failure ( link speed=100Mbps lower than spec=1Gbps ) | F27: U801 | G27: =VLOOKUP(D27,'[1]TOTAL SN RMA'!$A:$C,3,0) -> 44041 | H27: =VLOOKUP(D27,[2]Sheet1!$A:$E,5,0) -> 0 | I27: Out of Warranty
A28: 27 | C28: 28CDC4FB2282 | D28: 2149688001202005108899 | E28: Lan port link speed check failure ( link speed=100Mbps lower than spec=1Gbps ) | F28: U801 | G28: =VLOOKUP(D28,'[1]TOTAL SN RMA'!$A:$C,3,0) -> 44041 | H28: =VLOOKUP(D28,[2]Sheet1!$A:$E,5,0) -> 0 | I28: Out of Warranty
A29: 28 | C29: 28CDC4FB3CD7 | D29: 2149688001202005113569 | E29: Can't download Factory FW (Stop at 7%) | F29: U602 | G29: =VLOOKUP(D29,'[1]TOTAL SN RMA'!$A:$C,3,0) -> 44041 | H29: =VLOOKUP(D29,[2]Sheet1!$A:$E,5,0) -> 0 | I29: Out of Warranty
A30: 29 | C30: 28CDC4FB414D | D30: 2149688001202005115826 | E30: Can't download Factory FW | F30: U1, U602 | G30: =VLOOKUP(D30,'[1]TOTAL SN RMA'!$A:$C,3,0) -> 44041 | H30: =VLOOKUP(D30,[2]Sheet1!$A:$E,5,0) -> 0 | I30: Out of Warranty
A31: 30 | C31: 28CDC4FB429D | D31: 2149688001202005126481 | E31: audio function fail | F31: U1, U1101 | G31: =VLOOKUP(D31,'[1]TOTAL SN RMA'!$A:$C,3,0) -> 44048 | H31: =VLOOKUP(D31,[2]Sheet1!$A:$E,5,0) -> 0 | I31: Out of Warranty
A32: 31 | C32: 28CDC4FB4321 | D32: 2149688001202005114964 | E32: Can't download Factory FW (Stop at 7%) | F32: U602 | G32: =VLOOKUP(D32,'[1]TOTAL SN RMA'!$A:$C,3,0) -> 44041 | H32: =VLOOKUP(D32,[2]Sheet1!$A:$E,5,0) -> 0 | I32: Out of Warranty
A33: 32 | C33: 28CDC4FB4D3F | D33: 2149688001202005126178 | E33: Can't download Factory FW | F33: U1, U602 | G33: =VLOOKUP(D33,'[1]TOTAL SN RMA'!$A:$C,3,0) -> 44047 | H33: =VLOOKUP(D33,[3]Sheet1!$A:$E,5,0) -> 0 | I33: Out of Warranty
A34: 33 | C34: 28CDC4FB531F | D34: 2149688001202005120071 | E34: Can't download Factory FW | F34: U1, U602 | G34: =VLOOKUP(D34,'[1]TOTAL SN RMA'!$A:$C,3,0) -> 44048 | H34: =VLOOKUP(D34,[2]Sheet1!$A:$E,5,0) -> 0 | I34: Out of Warranty
A35: 34 | C35: 28CDC4FB5C14 | D35: 2149688001202005123729 | E35: Can't download Factory FW (Stop at 7%) | F35: U602 | G35: =VLOOKUP(D35,'[1]TOTAL SN RMA'!$A:$C,3,0) -> 44047 | H35: =VLOOKUP(D35,[2]Sheet1!$A:$E,5,0) -> 0 | I35: Out of Warranty
A36: 35 | C36: 28CDC4FB63BA | D36: 2149688001202005126208 | E36: Ethernet LED no light - light dim | F36: J801 | G36: =VLOOKUP(D36,'[1]TOTAL SN RMA'!$A:$C,3,0) -> 44047 | H36: =VLOOKUP(D36,[2]Sheet1!$A:$E,5,0) -> 0 | I36: Out of Warranty
A37: 36 | C37: 28CDC4FB6B2F | D37: 2149688001202005138674 | E37: Can't download Factory FW (Stop at 7%) | F37: U602 | G37: =VLOOKUP(D37,'[1]TOTAL SN RMA'!$A:$C,3,0) -> 44047 | H37: =VLOOKUP(D37,[2]Sheet1!$A:$E,5,0) -> 0 | I37: Out of Warranty
A38: 37 | C38: 28CDC4FB6D90 | D38: 2149688001202005141021 | E38: No Ping | F38: U1, U602 | G38: =VLOOKUP(D38,'[1]TOTAL SN RMA'!$A:$C,3,0) -> 44047 | H38: =VLOOKUP(D38,[2]Sheet1!$A:$E,5,0) -> 0 | I38: Out of Warranty
A39: 38 | C39: 28CDC4FB7682 | D39: 2149688001202005132887 | E39: No Ping | F39: T801 | G39: =VLOOKUP(D39,'[1]TOTAL SN RMA'!$A:$C,3,0) -> 44047 | H39: =VLOOKUP(D39,[2]Sheet1!$A:$E,5,0) -> 0 | I39: Out of Warranty
A40: 39 | C40: 28CDC4FB7931 | D40: 2149688001202005132121 | E40: Ethernet LED no light - light dim | F40: J801 | G40: =VLOOKUP(D40,'[1]TOTAL SN RMA'!$A:$C,3,0) -> 44047 | H40: =VLOOKUP(D40,[2]Sheet1!$A:$E,5,0) -> 0 | I40: Out of Warranty
...

Sheet function issue(out of warranty)
A1: No | B1: SN | C1: MAC | D1: SHIPPING SN | E1: Phenomenon | F1: Fail symprom | G1: Repair location | H1: SHIPPING DATE | I1: Warranty 1 | J1: In 0506 list | K1: Warranty 2 | L1: Referance | M1: TW RD Failure Analysis | N1: FXC PE Inspection | O1: FXC PE Failure Analysis | P1: Root cause | Q1: Action
A2: 1 | C2: 1CBFC0F8DC46 | D2: 2149688001202005030175 | F2: Can't download Factory FW | G2: U1,U602 | H2: 06/10/2020 | I2: out of warranty
A3: 2 | C3: 1CBFC0F90DF8 | D3: 2149688001202005032852 | F3: Can't download Factory FW | G3: U1,U602 | H3: 06/10/2020 | I3: out of warranty
A4: 3 | C4: 1CBFC0F8DC52 | D4: 2149688001202005030136 | E4: SCRAP | F4: Can't download Factory FW | G4: U1,U602 | H4: 06/10/2020 | I4: out of warranty
A5: 4 | C5: 1CBFC0F90B6A | D5: 2149688001202005034948 | F5: Can't download Factory FW | G5: U1,U602 | H5: 06/10/2020 | I5: out of warranty
A6: 5 | C6: 1CBFC0F90679 | D6: 2149688001202005034663 | F6: Can't download Factory FW | G6: U1,U602 | H6: 06/10/2020 | I6: out of warranty
A7: 6 | C7: 1CBFC0F9087F | D7: 2149688001202005038726 | F7: Can't download Factory FW | G7: U1,U602 | H7: 06/10/2020 | I7: out of warranty
A8: 7 | C8: 28CDC4FF50A1 | D8: 2149688001202101087465 | F8: Can't download Factory FW | G8: U1,U602 | H8: 02/26/2021 | I8: out of warranty
A9: 8 | C9: 5C3A45339CA1 | D9: 2149688001202005038209 | F9: Can't download Factory FW (Stop at 7%) | G9: U602 | H9: 06/10/2020 | I9: out of warranty
A10: 9 | C10: D41B81FEA3EC | D10: 2149688001202101193623 | F10: Can't download Factory FW | G10: U1,U602 | H10: 04/29/2021 | I10: out of warranty
A11: 10 | C11: 1CBFC0F90006 | D11: 2149688001202005035920 | F11: Can't download Factory FW (Stop at 7%) | G11: U602 | H11: 06/10/2020 | I11: out of warranty
A12: 11 | C12: 1CBFC0F8F937 | D12: 2149688001202005038003 | F12: Can't download Factory FW (Stop at 7%) | G12: U602 | H12: 06/10/2020 | I12: out of warranty
A13: 12 | C13: D41B81FEBB3D | D13: 2149688001202101197839 | F13: Can't download Factory FW | G13: U1,U602 | H13: 04/28/2021 | I13: out of warranty
A14: 13 | C14: 1CBFC0F907BE | D14: 2149688001202005034821 | F14: HDMI function fail | G14: FIL1402 | H14: 06/10/2020 | I14: out of warranty
A15: 14 | C15: 1CBFC0F8FF85 | D15: 2149688001202005039016 | F15: No boot | G15: U1,U602 | H15: 06/12/2020 | I15: out of warranty
A16: 15 | C16: 5C3A45339230 | D16: 2149688001202005040549 | F16: Can't download Factory FW | G16: U1,U602 | H16: 06/12/2020 | I16: out of warranty
A17: 16 | C17: B4B5B6FF970B | D17: 2149688001202108109595 | E17: SCRAP | F17: No boot | G17: U1,U602,U801,U1001 | H17: 10/12/2021 | I17: out of warranty
A18: 17 | C18: B4B5B6FFA7CF | D18: 2149688001202108111765 | E18: SCRAP | F18: No boot | G18: U1,U602,U801,U1001 | H18: 10/29/2021 | I18: out of warranty
A19: 18 | C19: B4B5B6FDB1FD | D19: 2149688001202101280826 | F19: No boot | G19: U1,U602,U801,U1002 | H19: 08/23/2021 | I19: out of warranty
A20: 19 | C20: D41B81FEE8CF | D20: 2149688001202101205825 | F20: No boot | G20: U1,U602,U801,U1003 | H20: 04/28/2021 | I20: out of warranty
A21: 20 | C21: D41B81FE76C4 | D21: 2149688001202101174987 | F21: No boot | G21: U1,U602,U801,U1004 | H21: 03/29/2021 | I21: out of warranty
A22: 21 | C22: 5C3A4533AB6A | D22: 2149688001202005048476 | F22: Can't download Factory FW | G22: U1,U602 | H22: 06/12/2020 | I22: out of warranty
A23: 22 | C23: 5C3A45339EAD | D23: 2149688001202005047061 | F23: HDMI video noise fail | G23: U1,U602 | H23: 06/12/2020 | I23: out of warranty
A24: 23 | C24: D41B81FF0400 | D24: 2149688001202101221210 | F24: Can't download Factory FW | G24: U1,U602 | H24: 05/24/2021 | I24: out of warranty
A25: 24 | C25: 5C3A4533A936 | D25: 2149688001202005047745 | F25: Can't download Factory FW (Stop at 7%) | G25: U602 | H25: 06/12/2020 | I25: out of warranty
A26: 25 | C26: 5C3A45338B0A | D26: 2149688001202005042033 | E26: SCRAP | F26: No ping | G26: U801 | H26: 06/12/2020 | I26: out of warranty
A27: 26 | C27: B4B5B6FE14AD | D27: 2149688001202108012672 | F27: Can't download Factory FW | G27: U1,U602 | H27: 09/15/2021 | I27: out of warranty
A28: 27 | C28: 5C3A45339CAD | D28: 2149688001202005046026 | F28: Can't download Factory FW (Stop at 7%) | G28: U602 | H28: 06/12/2020 | I28: out of warranty
A29: 28 | C29: 5C3A4533A58F | D29: 2149688001202005044829 | F29: No ping | G29: T801 | H29: 06/12/2020 | I29: out of warranty
A30: 29 | C30: 5C3A45339118 | D30: 2149688001202005040902 | F30: No ping | G30: U801 | H30: 06/12/2020 | I30: out of warranty
A31: 30 | C31: B4B5B6FEF80B | D31: 2149688001202108068134 | F31: Can't download Factory FW | G31: U1,U602 | H31: 09/28/2021 | I31: out of warranty
A32: 31 | C32: 5C3A45338EC1 | D32: 2149688001202005041706 | E32: SCRAP | F32: HDMI function fail | G32: J1401 | H32: 06/12/2020 | I32: out of warranty
A33: 32 | C33: 28CDC40041C7 | D33: 2149688001202005070909 | F33: Can't download Factory FW | G33: U1,U602 | H33: 07/07/2020 | I33: out of warranty
A34: 33 | C34: 5C3A45B43604 | D34: 2149688001202005051666 | F34: Can't download Factory FW | G34: U1,U602 | H34: 07/07/2020 | I34: out of warranty
A35: 34 | C35: 5C3A45D534FF | D35: 2149688001202005055549 | F35: Can't download Factory FW | G35: U1,U602 | H35: 07/07/2020 | I35: out of warranty
A36: 35 | C36: 28CDC4FAFA11 | D36: 2149688001202101152699 | E36: SCRAP | F36: Can't download Factory FW | G36: U1,U602 | H36: 03/30/2021 | I36: out of warranty
A37: 36 | C37: 28CDC4FF95FE | D37: 2149688001202101140079 | F37: Can't download Factory FW | G37: U1,U602 | H37: 03/30/2021 | I37: out of warranty
A38: 37 | C38: 28CDC4FE96E3 | D38: 2149688001202101030638 | F38: Can't download Factory FW | G38: U1,U602 | H38: 01/19/2021 | I38: out of warranty
A39: 38 | C39: 5C3A45B4397B | D39: 2149688001202005050368 | F39: Can't download Factory FW | G39: U1,U602 | H39: 07/07/2020 | I39: out of warranty
A40: 39 | C40: 28CDC400453A | D40: 2149688001202005070486 | F40: Can't download Factory FW | G40: U1,U602 | H40: 07/07/2020 | I40: out of warranty
...

Sheet 744-list 0506
A1: SERIAL_NUMBER | B1: MODEL_NAME | C1: SHIPPING_SN | D1: SHIPPING TIME | E1: FACTORY | F1: FUNCTION | G1: LOCATION | H1: SCRAP | I1: LIST 0506 | J1: WARRANTY
A2: 28CDC4004959 | B2: T99X171.00 | C2: 2149688001202005069630 | D2: 07/07/2020 | E2: BG | F2: No ping | G2: U801 | I2: under warranty
A3: 28CDC4FA3D69 | B3: T99X171.00 | C3: 2149688001202101101063 | D3: 02/26/2021 | E3: BG | I3: under warranty
A4: 28CDC4FA7CFB | B4: T99X171.00 | C4: 2149688001202101119552 | D4: 03/17/2021 | E4: BG | I4: under warranty
A5: 28CDC4FAC66C | B5: T99X171.00 | C5: 2149688001202101135375 | D5: 03/19/2021 | E5: BG | F5: Can't download Factory FW (Stop at 7%) | G5: U602 | I5: under warranty
A6: 28CDC4FAD123 | B6: T99X171.00 | C6: 2149688001202101140732 | D6: 03/29/2021 | E6: BG | F6: Can't download Factory FW | G6: U1,U602 | I6: under warranty
A7: 28CDC4FAECC8 | B7: T99X171.00 | C7: 2149688001202101143543 | D7: 03/29/2021 | E7: BG | I7: under warranty
A8: 28CDC4FC0C4E | B8: T99X171.00 | C8: 2149688001202005170218 | D8: 09/15/2020 | E8: BG | F8: No ping | G8: J801 | I8: under warranty
A9: 28CDC4FC3626 | B9: T99X171.00 | C9: 2149688001202005179624 | D9: 09/15/2020 | E9: BG | I9: under warranty
A10: 28CDC4FC3BB5 | B10: T99X171.00 | C10: 2149688001202005177704 | D10: 09/15/2020 | E10: BG | I10: under warranty
A11: 28CDC4FC5D20 | B11: T99X171.00 | C11: 2149688001202005186782 | D11: 09/16/2020 | E11: BG | I11: under warranty
A12: 28CDC4FC885D | B12: T99X171.00 | C12: 2149688001202009008892 | D12: 10/14/2020 | E12: BG | I12: under warranty
A13: 28CDC4FCAF77 | B13: T99X171.00 | C13: 2149688001202009020611 | D13: 10/26/2020 | E13: BG | I13: under warranty
A14: 28CDC4FCB351 | B14: T99X171.00 | C14: 2149688001202009025220 | D14: 10/26/2020 | E14: BG | I14: under warranty
A15: 28CDC4FCE08B | B15: T99X171.00 | C15: 2149688001202009033038 | D15: 11/05/2020 | E15: BG | F15: Can't download Factory FW | G15: U1,U602 | I15: under warranty
A16: 28CDC4FCE8CA | B16: T99X171.00 | C16: 2149688001202009034011 | D16: 11/05/2020 | E16: BG | I16: under warranty
A17: 28CDC4FD378A | B17: T99X171.00 | C17: 2149688001202009057548 | D17: 11/05/2020 | E17: BG | I17: under warranty
A18: 28CDC4FD8BC6 | B18: T99X171.00 | C18: 2149688001202009079942 | D18: 12/11/2020 | E18: BG | I18: under warranty
A19: 28CDC4FD9E2B | B19: T99X171.00 | C19: 2149688001202009082648 | D19: 12/17/2020 | E19: BG | I19: under warranty
A20: 28CDC4FE124A | B20: T99X171.00 | C20: 2149688001202101002620 | D20: 01/11/2021 | E20: BG | F20: Can't download Factory FW | G20: U1,U602 | I20: under warranty
A21: 28CDC4FE6B1F | B21: T99X171.00 | C21: 2149688001202101026287 | D21: 01/19/2021 | E21: BG | I21: under warranty
A22: 28CDC4FED1FF | B22: T99X171.00 | C22: 2149688001202101044613 | D22: 01/26/2021 | E22: BG | I22: under warranty
A23: 38D57AD810DA | B23: T99X171.00 | C23: 2149688001202201075630 | D23: 01/26/2022 | E23: BG | I23: under warranty
A24: 38D57AD87C74 | B24: T99X171.00 | C24: 2149688001202201097128 | D24: 02/14/2022 | E24: BG | I24: under warranty
A25: 38D57AD89965 | B25: T99X171.00 | C25: 2149688001202201101852 | D25: 02/14/2022 | E25: BG | I25: under warranty
A26: 38D57AD92306 | B26: T99X171.00 | C26: 2149688001202201147763 | D26: 03/05/2022 | E26: BG | I26: under warranty
A27: 4CD577FEA495 | B27: T99X171.00 | C27: 2149688001202108151082 | D27: 11/24/2021 | E27: BG | I27: under warranty
A28: 4CD577FEEB6C | B28: T99X171.00 | C28: 2149688001202201003417 | D28: 11/30/2021 | E28: BG | I28: under warranty
A29: D41B81FE7656 | B29: T99X171.00 | C29: 2149688001202101175021 | D29: 03/29/2021 | E29: BG | I29: under warranty
A30: D41B81FF7B3B | B30: T99X171.00 | C30: 2149688001202101244595 | D30: 05/24/2021 | E30: BG | F30: Can't download Factory FW (Stop at 7%) | G30: U602 | I30: under warranty
A31: D41B81FF80FB | B31: T99X171.00 | C31: 2149688001202101249466 | D31: 06/09/2021 | E31: BG | F31: Can't download Factory FW | G31: U1,U602 | I31: under warranty
A32: 1CBFC0F8F919 | B32: T99X171.00 | C32: 2149688001202005037058 | D32: 06/10/2020 | E32: BG | I32: under warranty
A33: 1CBFC0F8FA28 | B33: T99X171.00 | C33: 2149688001202005038951 | D33: 06/10/2020 | E33: BG | I33: under warranty
A34: 1CBFC0F8FD13 | B34: T99X171.00 | C34: 2149688001202005037718 | D34: 06/10/2020 | E34: BG | F34: Can't download Factory FW | G34: U1,U602 | I34: under warranty
A35: 1CBFC0F90C7A | B35: T99X171.00 | C35: 2149688001202005033867 | D35: 06/10/2020 | E35: BG | F35: No boot | G35: C313 | I35: under warranty
A36: 1CBFC0F917E0 | B36: T99X171.00 | C36: 2149688001202005032932 | D36: 06/10/2020 | E36: BG | I36: under warranty
A37: 1CBFC0F91B9E | B37: T99X171.00 | C37: 2149688001202005042784 | D37: 06/12/2020 | E37: BG | I37: under warranty
A38: 28CDC4003B44 | B38: T99X171.00 | C38: 2149688001202005073593 | D38: 07/14/2020 | E38: BG | I38: under warranty
A39: 28CDC4004000 | B39: T99X171.00 | C39: 2149688001202005072543 | D39: 07/07/2020 | E39: BG | I39: under warranty
A40: 28CDC4004E3B | B40: T99X171.00 | C40: 2149688001202005068052 | D40: 07/07/2020 | E40: BG | I40: under warranty
...

Sheet 45-list 0506 (2)
A1: SERIAL_NUMBER | B1: MODEL_NAME | C1: SHIPPING_SN | D1: SHIPPING TIME | E1: FACTORY | F1: FUNCTION | G1: LOCATION | H1: SCRAP | I1: LIST 0506 | J1: WARRANTY
A2: B068E6C30F58 | B2: T99X171.00 | C2: 2149688001201904004238 | D2: 8/3/2019 | E2: BN | F2: No ping | G2: U1,U602 | I2: out of warranty
A3: ACD5648A6C98 | B3: T99X171.00 | C3: 2149688001201904010921 | D3: 8/30/2019 | E3: BN | F3: No boot (Short 3.3V) | G3: U1,U602,U1101,U1001 | I3: out of warranty
A4: ACD5648A7A4D | B4: T99X171.00 | C4: 2149688001201904014430 | D4: 9/11/2019 | E4: BN | F4: No boot | G4: U503 | I4: out of warranty
A5: ACD5648A9C5A | B5: T99X171.00 | C5: 2149688001201904023147 | D5: 9/16/2019 | E5: BN | F5: Can't download factory SW | G5: U1,U602 | I5: out of warranty
A6: ACD5648AA724 | B6: T99X171.00 | C6: 2149688001201904025909 | D6: 9/18/2019 | E6: BN | F6: No boot (Short 3.3V) | G6: U1,U602,U1101,U1001 | I6: out of warranty
A7: ACD5648AB054 | B7: T99X171.00 | C7: 2149688001201904028261 | D7: 9/26/2019 | E7: BN | F7: Check HDMI video noise fail | G7: U1,U602 | I7: out of warranty
A8: ACD5648AB625 | B8: T99X171.00 | C8: 2149688001201904029750 | D8: 9/26/2019 | E8: BN | F8: Can't download factory SW (stop at 7%) | G8: U602 | H8: Scrap | I8: out of warranty
A9: 4023432A4CF8 | B9: T99X171.00 | C9: 2149688001201904031430 | D9: 9/15/2019 | E9: BN | F9: No boot (Short 3.3V) | G9: U1,U602,U1101,U1001 | I9: out of warranty
A10: 4023432A540D | B10: T99X171.00 | C10: 2149688001201904033243 | D10: 9/15/2019 | E10: BN | F10: No ping | G10: J801 | I10: out of warranty
A11: 4023432A5D68 | B11: T99X171.00 | C11: 2149688001201904035638 | D11: 9/17/2019 | E11: BN | F11: No boot | G11: U308 | I11: out of warranty
A12: 4023432A8839 | B12: T99X171.00 | C12: 2149688001201904046599 | D12: 9/21/2019 | E12: BN | F12: Can't download factory SW | G12: U1,U602 | I12: out of warranty
A13: 4023432AA296 | B13: T99X171.00 | C13: 2149688001201904055478 | D13: 9/26/2019 | E13: BN | F13: Ethernet no light | G13: J801 | I13: out of warranty
A14: 40234355DB19 | B14: T99X171.00 | C14: 2149688001201908000037 | D14: 9/25/2019 | E14: BN | F14: No boot | G14: U308 | H14: Scrap | I14: out of warranty
A15: 40234355DE57 | B15: T99X171.00 | C15: 2149688001201908001747 | D15: 9/27/2019 | E15: BN | F15: No boot | G15: U302 | I15: out of warranty
A16: 4023438BA176 | B16: T99X171.00 | C16: 2149688001201908010346 | D16: 10/4/2019 | E16: BN | F16: Can't download factory SW | G16: U1,U602 | H16: Scrap | I16: out of warranty
A17: 4023438BB944 | B17: T99X171.00 | C17: 2149688001201908023966 | D17: 10/10/2019 | E17: BN | F17: No boot (Short 3.3V) | G17: U1,U602,U1101,U1001 | H17: Scrap | I17: out of warranty
A18: 4023438BC1AA | B18: T99X171.00 | C18: 2149688001201908016221 | D18: 10/7/2019 | E18: BN | F18: Can't download factory SW (stop at 7%) | G18: U602 | I18: out of warranty
A19: 4023438BC4E1 | B19: T99X171.00 | C19: 2149688001201908022923 | D19: 10/10/2019 | E19: BN | F19: No boot (Short 3.3V) | G19: U1,U602,U1101,U1001 | I19: out of warranty
A20: 402343CD3164 | B20: T99X171.00 | C20: 2149688001201908038241 | D20: 10/14/2019 | E20: BN | F20: Can't download factory SW (stop at 7%) | G20: U602 | I20: out of warranty
A21: 402343E07FA6 | B21: T99X171.00 | C21: 2149688001201908052434 | D21: 10/17/2019 | E21: BN | F21: Can't download factory SW | G21: U1,U602 | H21: Scrap | I21: out of warranty
A22: 402343E08223 | B22: T99X171.00 | C22: 2149688001201908051132 | D22: 10/17/2019 | E22: BN | F22: Can't download factory SW (stop at 7%) | G22: U602 | I22: out of warranty
A23: 405BD8247219 | B23: T99X171.00 | C23: 2149688001201908093354 | D23: 10/28/2019 | E23: BN | F23: No boot (Short 3.3V) | G23: U1,U602,U1101,U1001 | I23: out of warranty
A24: 405BD8248924 | B24: T99X171.00 | C24: 2149688001201908084667 | D24: 10/26/2019 | E24: BN | F24: Can't download factory SW (stop at 7%) | G24: U602 | I24: out of warranty
A25: 405BD824902C | B25: T99X171.00 | C25: 2149688001201908085580 | D25: 10/26/2019 | E25: BN | F25: No boot | G25: R327 | I25: out of warranty
A26: 405BD86D2228 | B26: T99X171.00 | C26: 2149688001201909005004 | D26: 10/31/2019 | E26: BN | F26: Can't download factory SW (stop at 7%) | G26: U602 | I26: out of warranty
A27: 405BD86D7899 | B27: T99X171.00 | C27: 2149688001201909028130 | D27: 11/8/2019 | E27: BN | F27: Can't download factory SW (stop at 7%) | G27: U602 | I27: out of warranty
A28: 405BD86D7D08 | B28: T99X171.00 | C28: 2149688001201909028568 | D28: 11/7/2019 | E28: BN | F28: Can't download factory SW | G28: U1,U602 | I28: out of warranty
A29: 405BD8AD40B6 | B29: T99X171.00 | C29: 2149688001201909043715 | D29: 11/11/2019 | E29: BN | F29: No ping | G29: J801 | I29: out of warranty
A30: 405BD8E2CE51 | B30: T99X171.00 | C30: 2149688001201909074767 | D30: 11/19/2019 | E30: BN | F30: No boot | G30: R329 | I30: out of warranty
A31: 405BD8E2D079 | B31: T99X171.00 | C31: 2149688001201909073424 | D31: 11/17/2019 | E31: BN | F31: No boot (Short 3.3V) | G31: U1,U602,U1101,U1001 | I31: out of warranty
A32: 4CEBBD1E1971 | B32: T99X171.00 | C32: 2149688001202001001269 | D32: 1/6/2020 | E32: BN | F32: No boot (Short 3.3V) | G32: U1,U602,U1101,U1001 | I32: out of warranty
A33: 4CEBBD9C007C | B33: T99X171.00 | C33: 2149688001202001022172 | D33: 1/16/2020 | E33: BN | F33: Can't download factory SW (stop at 7%) | G33: U602 | I33: out of warranty
... A43: E86F388A9DBA | B43: T99X171.00 | C43: 2149688001201909111195 | D43: 12/9/2019 | E43: BN | F43: Boot up fail | G43: U506 | I43: out of warranty
A44: E86F388AD68D | B44: T99X171.00 | C44: 2149688001201909121942 | D44: 12/12/2019 | E44: BN | F44: No ping | G44: U1,U602 | H44: Scrap | I44: out of warranty
A45: E86F388AE9EF | B45: T99X171.00 | C45: 2149688001201909132302 | D45: 12/19/2019 | E45: BN | F45: No ping | G45: U1,U602 | H45: Scrap | I45: out of warranty
A46: E86F388AF746 | B46: T99X171.00 | C46: 2149688001201909136228 | D46: 12/18/2019 | E46: BN | F46: Can't download factory SW | G46: U1,U602 | I46: out of warranty
